BEGIN:VCALENDAR
VERSION:2.0
PRODID:-//Anthroposophical Society in Australia - ECPv6.3.7//NONSGML v1.0//EN
CALSCALE:GREGORIAN
METHOD:PUBLISH
X-ORIGINAL-URL:https://www.anthroposophyau.org.au
X-WR-CALDESC:Events for Anthroposophical Society in Australia
REFRESH-INTERVAL;VALUE=DURATION:PT1H
X-Robots-Tag:noindex
X-PUBLISHED-TTL:PT1H
BEGIN:VTIMEZONE
TZID:Australia/Sydney
BEGIN:STANDARD
TZOFFSETFROM:+1100
TZOFFSETTO:+1000
TZNAME:AEST
DTSTART:20240406T160000
END:STANDARD
BEGIN:DAYLIGHT
TZOFFSETFROM:+1000
TZOFFSETTO:+1100
TZNAME:AEDT
DTSTART:20241005T160000
END:DAYLIGHT
END:VTIMEZONE
BEGIN:VEVENT
DTSTART;TZID=Australia/Sydney:20240831T150000
DTEND;TZID=Australia/Sydney:20241123T170000
DTSTAMP:20260421T065107
CREATED:20240820T081104Z
LAST-MODIFIED:20240820T082252Z
UID:7564-1725116400-1732381200@www.anthroposophyau.org.au
SUMMARY:Working with Steiner's Nature Mood Sketches
DESCRIPTION:  \nPainted Space Studio \npresents \nThe Seven School (Friedwart) Sketches series \n  \nThis fortnightly online course introduces you to Rudolf Steiner’s approach to painting and his understanding of how the formative forces shape and move the world around us through his own pastel sketches. The course uses the wet-on-dry veiling technique or pastels\, if preferred. \nThe Seven School (or Friedwart) Sketches were first given to Waldorf teachers as part of Steiner’s new impulse for understanding both Art and Nature\, to help students explore invisible yet objective laws of Nature. The series leads us from the archetypal nature moods of sunrise and sunset through the four elements to the human world\, culminating in a Madonna and Child motif.  \nWhat are the Training Sketches? \nTheses sketches are part of a comprehensive portfolio known as the Training Sketches for the Artists. Along with The Nine Training Sketches (Nature Moods) and the Goetheanum epochs motifs\, they form an important part of this portfolio. \nBut these sketches are not images of external natural events; they refer to acts that are effective in nature and human\, says Christiane Haid\, head of the Visual Arts Section at the Goetheanum. She believes that working with the creative forces in and around us can become the starting point for facing tasks in healing the world.  \nWho is this course for? \n\nFor Steiner teachers\, artists\, art therapists and art students seeking to understand how the formative forces work in Nature and Human.\n\n\nFor anyone interested in the foundations of the anthroposophic approach to art\, colour and painting. You do not need to be an experienced artist to enjoy this course. \n\nThis course is a core course of the Art as a Path of Schooling for the Soul training. \nWhen is it? \n3pm-5pm Saturdays AEST\, 31 August-23 November 2024\nSeven two-hour fortnightly sessions. Participants are expected to do some homework between classes. Edited recordings of the sessions are available post-class but live participation is preferred\, unless your time zone makes this impossible. \nCost \n$300 AUD/$205 USD\n$305 AUD for PD certificate \nVideo recording included in the fee\, available for private study. \n\nBook here!\n\n\nHow to join the workshops \nThe Zoom link\, payment details\, a list of materials and suggested readings will be sent to you after booking. \n  \nOther Painted Space Studio workshop  courses \n \n \nFor more information\n\nContact \n\n\n \n \n\n‘…and in the creations of the artist t here will appear to us \nthe traces of his soul experience in the cosmos‘ \n  \nSteiner\n \n \n \nFeature image: Sunlit Tree by a Waterfall No. 6 © Fiona Campbell\n 
URL:https://www.anthroposophyau.org.au/event/working-with-steiners-nature-mood-sketches/
LOCATION:Online
CATEGORIES:Artistic,Australia,International
ATTACH;FMTTYPE=image/jpeg:https://www.anthroposophyau.org.au/wp-content/uploads/SunlitTreebyWaterfall6-1-e1666838620296.jpeg
ORGANIZER;CN="Fiona Campbell":MAILTO:paintedspace@gmail.com
END:VEVENT
END:VCALENDAR