BEGIN:VCALENDAR
VERSION:2.0
PRODID:-//Anthroposophical Society in Australia - ECPv6.3.7//NONSGML v1.0//EN
CALSCALE:GREGORIAN
METHOD:PUBLISH
X-ORIGINAL-URL:https://www.anthroposophyau.org.au
X-WR-CALDESC:Events for Anthroposophical Society in Australia
REFRESH-INTERVAL;VALUE=DURATION:PT1H
X-Robots-Tag:noindex
X-PUBLISHED-TTL:PT1H
BEGIN:VTIMEZONE
TZID:Australia/Sydney
BEGIN:STANDARD
TZOFFSETFROM:+1100
TZOFFSETTO:+1000
TZNAME:AEST
DTSTART:20230401T160000
END:STANDARD
BEGIN:DAYLIGHT
TZOFFSETFROM:+1000
TZOFFSETTO:+1100
TZNAME:AEDT
DTSTART:20230930T160000
END:DAYLIGHT
END:VTIMEZONE
BEGIN:VEVENT
DTSTART;VALUE=DATE:20230801
DTEND;VALUE=DATE:20231122
DTSTAMP:20260423T143603
CREATED:20230705T014134Z
LAST-MODIFIED:20230917T234402Z
UID:6402-1690848000-1700611199@www.anthroposophyau.org.au
SUMMARY:Anthroposophical Professional Development Initiative
DESCRIPTION:Introducing a new online course \nFor terms 3 & 4\, 2023 \nWhat is the Anthroposophical World View?\nThe aim of these two blocks of lectures and workshops is to present an overview of what is often experienced as an overwhelmingly large and complex body of knowledge\, particularly for student teachers and other professionals working in anthroposophically-based groups and organisations. \n\n\n\n\nA closer understanding of how spirit and matter permeate each other lies at the very heart of any truly monistic world view\, such as the one Rudolf Steiner gave to the world. It is out of this very understanding that Anthroposophy can be concretely applied in so many practical fields of life. \nLecture series \n\n\n\nTerm 4 Lecture Series II: An Introduction to Rudolf Steiner’s Cosmology \nDownload the lecture program \n\n\n\nFull course program \nThree Worlds – 4 Ethers : Connecting Spirit and Matter\nBlock 1 (Term 3) explores the links between the physical\, astral and spiritual worlds and how nature and the human being are placed within this multi-tiered reality. This also includes the Manifestation process by which spirit incarnates into physical form and substance via the medium of the 4 Ethers\, which form the bridge between spirit and matter. \n\n\n\n\n\n\n\n\nSteiner’s Cosmology: The Cosmic Mission of Humanity and Earth\nBlock II (Term 4) explores the larger Chronological context\, which leads us to the question of humanity’s cosmic origins and future destiny. Where did humanity come from? Where are we going? What is our cosmic purpose and mission on Earth and within the larger spiritual universe? Rudolf Steiner’s surprising answers can throw a profound light on such questions\, including the problem of good and evil\, human freedom and the longer-term consequences of the seeds we are planting right now\, both as individuals and collectively as a humanity. The cosmological picture also provides a context to the currently raging\, worldwide battle between Good and Evil and can help us face this battle with renewed confidence and strength in our humanity. \n\n\n\n\nDownload the program here. \nCost \nPlease check the program flyer for fees \nEnrolment  \nDownload the enrolment form \nFor more information \n\n\n\n\nFor a 15-minute video introduction\nContact Johannes on: +61 (0) 414 724 587  \n\n\n\n\n\n\n\n\n\n\n\n\n\n\n\n\n\n\n\n\n  \n 
URL:https://www.anthroposophyau.org.au/event/anthroposophical-professional-development-initiative/
LOCATION:Online
CATEGORIES:Artistic,Australia
ATTACH;FMTTYPE=image/jpeg:https://www.anthroposophyau.org.au/wp-content/uploads/Schuster4EthersFlyer-e1688520807309.jpg
END:VEVENT
END:VCALENDAR