BEGIN:VCALENDAR
VERSION:2.0
PRODID:-//Anthroposophical Society in Australia - ECPv6.3.7//NONSGML v1.0//EN
CALSCALE:GREGORIAN
METHOD:PUBLISH
X-ORIGINAL-URL:https://www.anthroposophyau.org.au
X-WR-CALDESC:Events for Anthroposophical Society in Australia
REFRESH-INTERVAL;VALUE=DURATION:PT1H
X-Robots-Tag:noindex
X-PUBLISHED-TTL:PT1H
BEGIN:VTIMEZONE
TZID:Australia/Sydney
BEGIN:STANDARD
TZOFFSETFROM:+1100
TZOFFSETTO:+1000
TZNAME:AEST
DTSTART:20220402T160000
END:STANDARD
BEGIN:DAYLIGHT
TZOFFSETFROM:+1000
TZOFFSETTO:+1100
TZNAME:AEDT
DTSTART:20221001T160000
END:DAYLIGHT
END:VTIMEZONE
BEGIN:VEVENT
DTSTART;VALUE=DATE:20220513
DTEND;VALUE=DATE:20220516
DTSTAMP:20260426T040036
CREATED:20220110T004354Z
LAST-MODIFIED:20220413T234227Z
UID:4474-1652400000-1652659199@www.anthroposophyau.org.au
SUMMARY:The Heart in a Radiance of Stars
DESCRIPTION:  \nPresenters: Gillian Rogers\, Irmhild Kleinhenz\, Iris Curteis \nThese times present a call to individuals and communities to find new ways of being\, to cultivate courage and a deep recognition for the interconnectedness of life in all its visible and invisible forms. \nThis series of online presentations will explore heart-thinking and the development and evolution of the etheric heart to find greater strength and insight to meet these challenges. Using storytelling\, shared research and conversation\, we will deepen our appreciation and understanding of the transformative capacity of the heart as an instrument for spiritual perception and heightened social consciousness.  \n\nProgram \n5 March\, 2 April\, 13-15 May \nOver three weekends: two sessions online and culminating in May in a face-to-face three-day seminar in Dorrigo\, northern NSW.  \nVenue \nOnline\, with the seminar venue in Dorrigo\, NSW. \nCost \n\n\n\n\nOnline sessions $50.00 per session\n$80.00 for two sessions \nSeminar $300.00 (not including food and accommodation)  \nTo book \nTransfer fees to Gillian Rogers \nCommonwealth Bank Glebe\nBSB 062172\nAcc 00652362 \nPlease add your name and the date of the session/s you are booking in to.  \nFor more information \nRead the flyer about this course\, including program and presenter details\, or contact Iris Curteis for more information. \n 
URL:https://www.anthroposophyau.org.au/event/the-heart-in-a-radiance-of-stars/
LOCATION:NSW
CATEGORIES:Artistic,Australia
ATTACH;FMTTYPE=image/jpeg:https://www.anthroposophyau.org.au/wp-content/uploads/HEART-in-the-RADIANCE-of-STARS.jpg
ORGANIZER;CN="Iris Curteis":MAILTO:an_lomall@bigpond.com
END:VEVENT
BEGIN:VEVENT
DTSTART;TZID=Australia/Sydney:20220521T150000
DTEND;TZID=Australia/Sydney:20220730T170000
DTSTAMP:20260426T040036
CREATED:20220205T065421Z
LAST-MODIFIED:20220205T065618Z
UID:4679-1653145200-1659200400@www.anthroposophyau.org.au
SUMMARY:Telling the Difference: The Oral Art of Telling
DESCRIPTION:  \n\n\n\n\nThe Oral Art of Telling Myths\, Legends & Saga\, Parables Fables\, & Folktales – An Online Course\n\n\n\n\nPresenter: Iris Curteis \nAll stories empower us to re-organise our thinking\, re-interpret our experiences & act with integrity & a greater sense of our humanity. Myths\, Legends\, Sagas\, Parables\, Fables\, & Folktales have different relationships to what we could call the sacred-spiritual\, different social functions\, & create different ways of working with individuals & in communities. \nThis six-part online\, interactive course is about building your skills as a storyteller. If you use storytelling in child or adult education\, parenting\, community building\, social justice\, caregiving\, inclusivity & diversity this course offers a practical introduction to the importance of ‘liminal space’\, story openings & closings\, & an experience of the different forms of Story\, why we need them\, how they work & how they need to be told. \n\n\n\n\n\nDates \n21/05\, 04/06\, 18/06\, 02/07\, 16/07\, 30/07\nSession times: 3:00 p.m – 5:00 p.m \nCost \nThe individual sessions $70\, seminar $400 (includes course material and zoom check-ins) \nBookings & inquiries: Iris Curteis or ring 0487 719 476\nFlyer here \nAbout Iris Curteis  \nIris Curteis is an accomplished storyteller; her background includes visual art\, speech formation and dramatic art (Europe)\, B.A. and B.A. hon. (creative writing)\, Ph.D. Storytelling and Community building (Australia). She has been working out of Anthroposophy for over 40 years.
URL:https://www.anthroposophyau.org.au/event/telling-the-difference-the-oral-art-of-telling/
LOCATION:Online
CATEGORIES:Artistic
ATTACH;FMTTYPE=image/jpeg:https://www.anthroposophyau.org.au/wp-content/uploads/2021-09-30-09.21.34-2-e1644043743798.jpeg
ORGANIZER;CN="Iris Curteis":MAILTO:an_lomall@bigpond.com
END:VEVENT
END:VCALENDAR