BEGIN:VCALENDAR
VERSION:2.0
PRODID:-//Anthroposophical Society in Australia - ECPv6.3.7//NONSGML v1.0//EN
CALSCALE:GREGORIAN
METHOD:PUBLISH
X-ORIGINAL-URL:https://www.anthroposophyau.org.au
X-WR-CALDESC:Events for Anthroposophical Society in Australia
REFRESH-INTERVAL;VALUE=DURATION:PT1H
X-Robots-Tag:noindex
X-PUBLISHED-TTL:PT1H
BEGIN:VTIMEZONE
TZID:Australia/Sydney
BEGIN:STANDARD
TZOFFSETFROM:+1100
TZOFFSETTO:+1000
TZNAME:AEST
DTSTART:20250405T160000
END:STANDARD
BEGIN:DAYLIGHT
TZOFFSETFROM:+1000
TZOFFSETTO:+1100
TZNAME:AEDT
DTSTART:20251004T160000
END:DAYLIGHT
END:VTIMEZONE
BEGIN:VEVENT
DTSTART;TZID=Australia/Sydney:20250214T140000
DTEND;TZID=Australia/Sydney:20250509T160000
DTSTAMP:20260420T235048
CREATED:20250122T042659Z
LAST-MODIFIED:20250122T043130Z
UID:7918-1739541600-1746806400@www.anthroposophyau.org.au
SUMMARY:Spirit in Human\, Human in Spirit: Investigations with Painting
DESCRIPTION:  \n  \nPainted Space Studio presents \nA course in the spiritual/physical nature of the human being\n  \n“In the head the power of faith; \nin the heart the might of love ; \nin the full human being\, all-sustaining hope.”  \nRudolf Steiner \n  \nRudolf Steiner’s picture imaginations arose from direct experiences of the spirit. He captured many of these pictures in his pastels sketches and paintings\, called the Training Sketches for the Artist.  He suggested that working artistically with these sketches would act as an impulse in us to find new directions for the future of art as a path for spiritual-scientific inquiry. \nThis online masterclass in painting over seven fortnightly sessions examines the human being in connection to the spirit from three different perspectives: the spiritual impulse in the human being\, the human impulse in the spiritual world\, and the threefold human being as spirit\, soul and body. \nWe use three of Steiner’s training sketches as our starting point for this exploration. \nWhat are Steiner’s Training Sketches? \nThe Training Sketches can be seen as ‘picture seeds’ and were given to the artists in answer to a request from the painter Henni Geck for a new impulse in art. Henni Geck (1884-1951) was the first painter to use these indications. \nWho is the course for? \n\nFor Steiner teachers\, artists\, art therapists and art students seeking to understand the hidden forces of Cosmos and Nature.\n\nPainting skills and understanding of core anthroposophic principles recommended to get the most out of this course. \nSelected readings by Rudolf Steiner complement the practical work. \nWhen is it? \n14 February-9 May 2025\, Fridays 2pm-4pm AEDT\nSeven fortnightly classes plus recording \nCost \n$280 AUD/$190 USD for ongoing participants\n$290 for PD certificate or for new participants enrolling only in this course.\nVideo recordings included in the fee\, available for private study. \nBook here!\nYou will be sent the payment details and a list of suggested materials and readings after booking.  \nThe Zoom link is sent one (1) day before the workshop begins. \nFor more information \nContact Fiona Campbell \n  \nFeature image: The Threefold Human Being © Rudolf Steiner Verlag \n\n\n\n 
URL:https://www.anthroposophyau.org.au/event/spirit-in-human-human-in-spirit-investigations-with-painting/
CATEGORIES:Artistic,Australia,International
ATTACH;FMTTYPE=image/jpeg:https://www.anthroposophyau.org.au/wp-content/uploads/ThreefoldHumanBeingSteiner.jpg
ORGANIZER;CN="Fiona Campbell":MAILTO:paintedspace@gmail.com
END:VEVENT
END:VCALENDAR