BEGIN:VCALENDAR
VERSION:2.0
PRODID:-//Anthroposophical Society in Australia - ECPv6.3.7//NONSGML v1.0//EN
CALSCALE:GREGORIAN
METHOD:PUBLISH
X-WR-CALNAME:Anthroposophical Society in Australia
X-ORIGINAL-URL:https://www.anthroposophyau.org.au
X-WR-CALDESC:Events for Anthroposophical Society in Australia
REFRESH-INTERVAL;VALUE=DURATION:PT1H
X-Robots-Tag:noindex
X-PUBLISHED-TTL:PT1H
BEGIN:VTIMEZONE
TZID:Australia/Sydney
BEGIN:STANDARD
TZOFFSETFROM:+1100
TZOFFSETTO:+1000
TZNAME:AEST
DTSTART:20230401T160000
END:STANDARD
BEGIN:DAYLIGHT
TZOFFSETFROM:+1000
TZOFFSETTO:+1100
TZNAME:AEDT
DTSTART:20230930T160000
END:DAYLIGHT
END:VTIMEZONE
BEGIN:VEVENT
DTSTART;TZID=Australia/Sydney:20230329T183000
DTEND;TZID=Australia/Sydney:20230329T200000
DTSTAMP:20260422T184758
CREATED:20230313T013742Z
LAST-MODIFIED:20230326T225500Z
UID:5871-1680114600-1680120000@www.anthroposophyau.org.au
SUMMARY:What is Phenomenology?And how do I begin?
DESCRIPTION:Stream of Life Research Studio presents \nA webinar on how to practice phenomenology in the workplace \n  \nThis webinar is the 3rd in our series and a follow-up to our first two dialogues (16 November 2022 and 15 February 2023). You are invited to join us again! \nThis series of webinars aims is to provide an interdisciplinary view of how different professions understand and implement phenomenology\, including how this form of research supports professional practice. Through sharing our collective experience of working phenomenologically\, we address the questions: what is phenomenology? and how do I practice it? \nAre you interested in learning how to work phenomenologically?  \nIn our first two webinars\, we have heard from a range of practitioners and researchers how they approach phenomenology in their professional practice and some techniques they use. Now\, in this third and final webinar\, we introduce how to begin working phenomenologically yourself.  \nProgram \nFirstly\, Robin Steele will be presenting her hermeneutic research into therapeutic change through psychophonetics. \nThen\, an open discussion on how to take the first steps in developing a phenomenological method for researching spiritual science. \nParticipants are invited to submit their questions in advance to the organisers to help facilitate the discussion. \nFor both parts of the program\, we will be using this framework: \n\nAn open attitude: how do I see with “new eyes”?  \nDwelling: how do I immerse myself into the object\, how do I engage with the experience\, the information?\nDisclosure: how can I reveal the essence of the phenomenon in question?\nDescription: sharing my experiences of working phenomenologically. How do I do this? \n\nA practice-based workshop is planned for 13 May in Sydney and potentially early Spring -TBA \nWhen will this webinar take place?  \n6.30 pm AEDT/5.30 pm AEST Wednesday 29th March 2023 online.  \nCost \n$20 donation or whatever you can afford to support us. \nRegistration \nTo register \nHow to join the webinar \nAfter registration\, participants will be sent the Zoom link by email two (2) days beforehand\, and then again one (1) hour beforehand. \nPlease login for the webinar via your Zoom app and not via Eventbrite. \nFor more information \nPlease contact Fiona Campbell or Martin Samson \n  \n\nPhenomenology is essentially the study of the structures of consciousness\, though it is better known as the study of the lived experience. \n \nIt concerns how a phenomenon is experienced\, as it is experienced\, and aims to describe those experiences\, rather than theorise or explain them. Moreover\, in studying the experience\, phenomenology opens the way to understanding our consciousness of that experience. In turn\, this can change our way of seeing the world (Campbell 2018*). \n\n  \n*Fiona Campbell (2018)\, ‘Flow\, resistance and thinking : a phenomenological study of creativity‘ Doctoral thesis\, UTS Digital Thesis Collection. 
URL:https://www.anthroposophyau.org.au/event/what-is-phenomenologyand-how-do-i-start/
LOCATION:Online
CATEGORIES:Australia,International
ATTACH;FMTTYPE=image/jpeg:https://www.anthroposophyau.org.au/wp-content/uploads/StreamOfLife.jpg
ORGANIZER;CN="Fiona Campbell":MAILTO:paintedspace@gmail.com
END:VEVENT
END:VCALENDAR