BEGIN:VCALENDAR
VERSION:2.0
PRODID:-//Anthroposophical Society in Australia - ECPv6.3.7//NONSGML v1.0//EN
CALSCALE:GREGORIAN
METHOD:PUBLISH
X-ORIGINAL-URL:https://www.anthroposophyau.org.au
X-WR-CALDESC:Events for Anthroposophical Society in Australia
REFRESH-INTERVAL;VALUE=DURATION:PT1H
X-Robots-Tag:noindex
X-PUBLISHED-TTL:PT1H
BEGIN:VTIMEZONE
TZID:Australia/Sydney
BEGIN:STANDARD
TZOFFSETFROM:+1100
TZOFFSETTO:+1000
TZNAME:AEST
DTSTART:20220402T160000
END:STANDARD
BEGIN:DAYLIGHT
TZOFFSETFROM:+1000
TZOFFSETTO:+1100
TZNAME:AEDT
DTSTART:20221001T160000
END:DAYLIGHT
END:VTIMEZONE
BEGIN:VEVENT
DTSTART;TZID=Australia/Sydney:20220212T160000
DTEND;TZID=Australia/Sydney:20220521T173000
DTSTAMP:20260420T165118
CREATED:20220119T015701Z
LAST-MODIFIED:20240122T044911Z
UID:4510-1644681600-1653154200@www.anthroposophyau.org.au
SUMMARY:Working with Steiner’s epoch motifs as a schooling for the ordering of the soul-life
DESCRIPTION: \nThey ‘lead us to confront the greatest of riddles – that  of human destiny’ \nA series of 7 experiential webinars + weekend studio\n  \nImmerse yourself in this unique journey through our soul/spiritual development! From our primeval beginnings\, through Lemuria and Atlantis to today and into the 6th Slavic epoch\, we can capture something of the ‘quiver’ of recollections of spiritual history lying deep in our soul-life through working actively with these motifs. \n  \nWhat is it about?  \nThis practice-based course explores Steiner’s Goetheanum ceiling sketches\, a sequence given to the painters as a picture progression of the spiritual history of humanity. He described them as a training in karmic vision that could potentially awaken a perception of karma. We will work with selected motifs through lecture\, study\, contemplative observation and drawing.  \nBackground notes \nRudolf Steiner created a substantial portfolio of drawings\, pastel sketches and paintings for the renewal of the visual arts\, many destined for the interior of the First Goetheanum\, with the purpose of helping us find a new relationship to art as a basis of spiritual awakening. The artforms in the first Goetheanum were intended to support a training in karmic vision through Art. \nArt works upon the human soul to awaken in it a feeling\, a deep feeling\, for the spiritual realities of what is portrayed. By actively working with these motifs\, we can approach an inner experience of their truths. Not only through the content but through the inward experience of them. By working actively with their forms and processes\, we can learn to transform the soul body so that it can prepare itself for karmic awakening. \nFor the ceiling of the first Goetheanum\, Steiner gave a series of ‘epoch’ motifs to the artists – 12 sketches for the large cupola of the first Goetheanum and 7 Sketches for the small cupola\, culminating in the motif of the Representative of Humanity. We will explore these motifs: their gestures\, meanings and role in our soul/spiritual evolution.  \nProgram  \n7 x 1.5hr webinars approx. twice a month on Saturday afternoons\, 4.00-5.30pm. \n12/2 Workshop 1: The Elohim motif from the Creation trio – completed\n26/2 Workshop 2:  Lemuria and Atlantis\n19/3 Workshop 3:  Ancient India – Ancient Greece\n2/4 Workshop 4:  The IAO motif: the Cosmic Word\n23/4 Workshop 5:  Faust and his Genius\n7/5 Workshop 6:  The Germanic and Slavic motifs\n21/5 Workshop 7: Lucifer\, Ahriman and the Representative of Humanity \nEach session includes a short lecture\, experiential artwork\, contemplation and discussion as the foundation of a schooling for the ordering of our soul life. The series culminates in an optional weekend studio where participants can turn their sketches and studies into artforms that reflect their personal relationship to the evolution of consciousness. \nEach session will be recorded and will be available for registrants. \nArt material list and background reading suggestions emailed at registration. \nWho is it for? \nFor students of Anthroposophy\, Steiner teachers\, artists and anyone interested in understanding Steiner’s approach to the spiritual evolution of humanity. \nBeginners in drawing are welcome. You do not need technical skills in the visual arts to find these workshops fruitful. These experiential workshops employ the anthroposophic approach to colour and process but the focus is on experiencing\, not learning drawing techniques. \nWhat dates are the workshops? \nSaturday afternoons 4.00-5.30pm AEDT (until it ends\, then AEST)\nWebinar workshops: 12/26 February | 19 March | 2/23 April | 7/21 May\nWeekend studio workshop: 3-5 June 2022 \nMissed most of the  webinars but want to join individual sessions? \nYou can still join us and catch up via the video recordings. Just contact Fiona Campbell \nHow much does it cost?  \nOnline series:  | $200 for full 7 webinars | $33 per individual workshop. \nWeekend studio: Linuwel School\, Maitland NSW\, 3-5 June \nWhat’s included in the price?  \nA video of each webinar\, list of suggested readings and a curated selection of copies of the motifs for private study only.  \nWhere do I register? \nAfter registration\, participants will be sent the Zoom workshop link and a list of suggested readings and materials.  The Zoom link will be sent again one (1) hour before the webinar. \nRegister here! \nPlease login for each session via your Zoom app and not via Eventbrite. \nFor more information \nPlease contact Fiona Campbell and share this flyer with others who might be interested. Thank you! \n  \nAbout Fiona Campbell  \nFiona Campbell is a researcher\, lecturer\, visual artist and arts educator. She has an interdisciplinary PhD on creativity and cognition. \nIn this course Fiona is presenting one of her special interests\, the nature of human consciousness\, a topic she has lectured on for 25 years. Her artistic research on the Goetheanum motifs complements this interest.  \nFiona is also a member of the Stream of Life Research Studio\, where she focuses on her other two specialisations\, phenomenology and creative cognition. \nYou can find out more about Fiona on her website\, read about her teaching work at Sydney Rudolf Steiner College (where she has taught since 1994) or listen to a recent ABC Soul Search interview with her about the anthroposophical approach to art. \nFiona is concurrently offering Working with The Nine Trainings Sketches for the Painters\, a masterclass online studio for painters interested in working more deeply with Rudolf Steiner’s training sketches.  \n  \n  \n  \n‘In the Goetheanum were forms that would awaken a perception of karma’ (April 27\, 1924)  \n  \n\n		\n		\n			\n				\n			\n				\n				Steiner’s Persian Epoch Motif\, large cupola\, Goetheanum\n				\n			\n				\n			\n				\n				Steiner’s Egyptian Epoch Motif\, large cupola\, Goetheanum\n				\n			\n				\n			\n				\n				Steiner’s Slavic Human Being\, small cupola\, First Goetheanum\n				\n		\n\n  \n 
URL:https://www.anthroposophyau.org.au/event/working-with-steiners-epoch-motifs-as-a-training-for-the-ordering-of-the-soul-life/
LOCATION:Online
CATEGORIES:Artistic,Australia,International
ATTACH;FMTTYPE=image/jpeg:https://www.anthroposophyau.org.au/wp-content/uploads/IMG_5480-e1642554276897.jpg
ORGANIZER;CN="Fiona Campbell":MAILTO:paintedspace@gmail.com
END:VEVENT
END:VCALENDAR