BEGIN:VCALENDAR
VERSION:2.0
PRODID:-//Anthroposophical Society in Australia - ECPv6.3.7//NONSGML v1.0//EN
CALSCALE:GREGORIAN
METHOD:PUBLISH
X-WR-CALNAME:Anthroposophical Society in Australia
X-ORIGINAL-URL:https://www.anthroposophyau.org.au
X-WR-CALDESC:Events for Anthroposophical Society in Australia
REFRESH-INTERVAL;VALUE=DURATION:PT1H
X-Robots-Tag:noindex
X-PUBLISHED-TTL:PT1H
BEGIN:VTIMEZONE
TZID:Australia/Sydney
BEGIN:STANDARD
TZOFFSETFROM:+1100
TZOFFSETTO:+1000
TZNAME:AEST
DTSTART:20220402T160000
END:STANDARD
BEGIN:DAYLIGHT
TZOFFSETFROM:+1000
TZOFFSETTO:+1100
TZNAME:AEDT
DTSTART:20221001T160000
END:DAYLIGHT
END:VTIMEZONE
BEGIN:VEVENT
DTSTART;TZID=Australia/Sydney:20220219T090000
DTEND;TZID=Australia/Sydney:20220219T100000
DTSTAMP:20260426T024843
CREATED:20220205T071429Z
LAST-MODIFIED:20220205T071733Z
UID:4685-1645261200-1645264800@www.anthroposophyau.org.au
SUMMARY:The Zodiac in Acting and Eurythmy
DESCRIPTION:An Interview with Dawn Langman\n\n\n\n\n\nDawn Langman explores the fundamentals of Chekhov’s psycho-physical technique and the metaphysical principles on which it is based. She examines this technique in relation to the specific challenges and gifts provided by the actor’s constitution of body\, soul and spirit\, and in the context of humanity’s evolving consciousness. \nTheodor Hundhammer is the founder of Eurythmy4you\, an organisation that produces and ever increasing number of wonderful online courses and trainings in eurythmy\, as well as engaging in extensive research about the therapeutic and health giving benefits of eurythmy. More recently Theodor has begun the Interview Show\, either directly or indirectly related to eurythmy. Previous recordings can be found here. \n\n\n\n\n\nThis month Theodor is interviewing Dawn Langman \n\n\n\n\nWhen? \nSaturday 19th February\, 2022\n9:00am AEDT\n8:30am ACDT\n8:00am AEST\n7:30am ACST\n6:00am AWST \n  \n\n\n\n\n\n\n\n\nAbout Dawn Langman \nDawn Langman taught Speech Formation for ten years at Emerson College in Sussex. Following this\, Dawn trained in Michael Chekhov’s acting technique in New York. Returning to Australia\, she continued to research the integration of Speech Formation with Chekhov’s technique. She examines this technique in relation to the specific challenges and gifts provided by the actor’s constitution of body\, soul and spirit\, and in the context of humanity’s evolving consciousness. She currently teaches this methodology at the Drama Centre\, Flinders University\, South Australia. \nIn the interview\, Dawn will speak about her new book and explain why we should pay attention to the zodiac in acting and eurythmy. Interested parties simply register and receive the link to the live stream free of charge. Further information can be found here. \n  \n\n\n\n\n\n\n\n\n\n\n\n  \nFeature image: courtesy of Melbourne Rudolf Steiner Seminar 
URL:https://www.anthroposophyau.org.au/event/the-zodiac-in-acting-and-eurythmy/
LOCATION:Qld
CATEGORIES:Australia
ATTACH;FMTTYPE=image/jpeg:https://www.anthroposophyau.org.au/wp-content/uploads/Dawn-Langman-for-web-e1718848327656.jpg
END:VEVENT
END:VCALENDAR