BEGIN:VCALENDAR
VERSION:2.0
PRODID:-//Anthroposophical Society in Australia - ECPv6.3.7//NONSGML v1.0//EN
CALSCALE:GREGORIAN
METHOD:PUBLISH
X-ORIGINAL-URL:https://www.anthroposophyau.org.au
X-WR-CALDESC:Events for Anthroposophical Society in Australia
REFRESH-INTERVAL;VALUE=DURATION:PT1H
X-Robots-Tag:noindex
X-PUBLISHED-TTL:PT1H
BEGIN:VTIMEZONE
TZID:Australia/Sydney
BEGIN:STANDARD
TZOFFSETFROM:+1100
TZOFFSETTO:+1000
TZNAME:AEST
DTSTART:20220402T160000
END:STANDARD
BEGIN:DAYLIGHT
TZOFFSETFROM:+1000
TZOFFSETTO:+1100
TZNAME:AEDT
DTSTART:20221001T160000
END:DAYLIGHT
END:VTIMEZONE
BEGIN:VEVENT
DTSTART;TZID=Australia/Sydney:20220517T080000
DTEND;TZID=Australia/Sydney:20220517T170000
DTSTAMP:20260420T100909
CREATED:20220516T234048Z
LAST-MODIFIED:20220516T235526Z
UID:5074-1652774400-1652806800@www.anthroposophyau.org.au
SUMMARY:Pedagogical Section work in Australia: An evening with Peggy Day-Hakker
DESCRIPTION:  \nPedagogical Section work collaborating with Rudolf Steiner education communities today \nThe Canberra Branch is delighted to invite you to a special evening with Peggy Day-Hakker who will be sharing a general overview of the work of the Pedagogical Section of anthroposophy in Australia. \nPeggy will be highlighting the ongoing research work associated with supporting Rudolf Steiner education\, community building and meeting the challenges of our time. \nThe evening will allow plenty of time for discussion and will be of special interest to teachers\, parents\, boards and all community staff members.  \nFor more information \nDownload the flyer for more information \nPlease RSVP to Hannah Semler or phone: 0402 782 632
URL:https://www.anthroposophyau.org.au/event/pedagogical-section-work-in-australia-an-evening-with-peggy-day-hakker/
LOCATION:Yarramundi Cultural Centre\, 245 Lady Denman Dr\, Canberra\, ACT\, 2600
CATEGORIES:Canberra branch
ATTACH;FMTTYPE=image/jpeg:https://www.anthroposophyau.org.au/wp-content/uploads/SSCBannercut-e1652744385979.jpg
ORGANIZER;CN="Hannah Semler":MAILTO:canberraanthropos1@gmail.com
END:VEVENT
BEGIN:VEVENT
DTSTART;TZID=Australia/Sydney:20220528T173000
DTEND;TZID=Australia/Sydney:20220528T203000
DTSTAMP:20260420T100909
CREATED:20220516T232509Z
LAST-MODIFIED:20220516T232702Z
UID:5067-1653759000-1653769800@www.anthroposophyau.org.au
SUMMARY:Canberra Branch Members Dinner Gathering
DESCRIPTION:  \nInvitation to members to gather for dinner with Class holders of the School of Spiritual Science from around Australia \n\n\n\n\n  \nThe Canberra Branch Committee is organising an evening with a delicious meal to be held in conjunction with First Class holders meeting from around Australia. It will be a great opportunity to catch-up with old friends\, hear a little more about what is happening in anthroposophical circles in other states and to meet new people. \n\n\n\n\n\nBookings by 23 May 2022 at the latest. Guests are welcome. \n\n\n\n\nHow much does it cost? \nA $20 contribution is much appreciated to help cover the expenses. \n\n\n\n\nFor more information \nDownload the flyer or contact Hannah Semler for more information
URL:https://www.anthroposophyau.org.au/event/canberra-branch-members-dinner-gathering/
LOCATION:Yarramundi Cultural Centre\, 245 Lady Denman Dr\, Canberra\, ACT\, 2600
CATEGORIES:Canberra branch
ATTACH;FMTTYPE=image/jpeg:https://www.anthroposophyau.org.au/wp-content/uploads/LakeBG9Oct-scaled-e1652743495659.jpg
ORGANIZER;CN="Hannah Semler":MAILTO:canberraanthropos1@gmail.com
END:VEVENT
END:VCALENDAR