BEGIN:VCALENDAR
VERSION:2.0
PRODID:-//Anthroposophical Society in Australia - ECPv6.3.7//NONSGML v1.0//EN
CALSCALE:GREGORIAN
METHOD:PUBLISH
X-WR-CALNAME:Anthroposophical Society in Australia
X-ORIGINAL-URL:https://www.anthroposophyau.org.au
X-WR-CALDESC:Events for Anthroposophical Society in Australia
REFRESH-INTERVAL;VALUE=DURATION:PT1H
X-Robots-Tag:noindex
X-PUBLISHED-TTL:PT1H
BEGIN:VTIMEZONE
TZID:Australia/Sydney
BEGIN:STANDARD
TZOFFSETFROM:+1100
TZOFFSETTO:+1000
TZNAME:AEST
DTSTART:20220402T160000
END:STANDARD
BEGIN:DAYLIGHT
TZOFFSETFROM:+1000
TZOFFSETTO:+1100
TZNAME:AEDT
DTSTART:20221001T160000
END:DAYLIGHT
BEGIN:STANDARD
TZOFFSETFROM:+1100
TZOFFSETTO:+1000
TZNAME:AEST
DTSTART:20230401T160000
END:STANDARD
BEGIN:DAYLIGHT
TZOFFSETFROM:+1000
TZOFFSETTO:+1100
TZNAME:AEDT
DTSTART:20230930T160000
END:DAYLIGHT
BEGIN:STANDARD
TZOFFSETFROM:+1100
TZOFFSETTO:+1000
TZNAME:AEST
DTSTART:20240406T160000
END:STANDARD
BEGIN:DAYLIGHT
TZOFFSETFROM:+1000
TZOFFSETTO:+1100
TZNAME:AEDT
DTSTART:20241005T160000
END:DAYLIGHT
BEGIN:STANDARD
TZOFFSETFROM:+1100
TZOFFSETTO:+1000
TZNAME:AEST
DTSTART:20250405T160000
END:STANDARD
BEGIN:DAYLIGHT
TZOFFSETFROM:+1000
TZOFFSETTO:+1100
TZNAME:AEDT
DTSTART:20251004T160000
END:DAYLIGHT
END:VTIMEZONE
BEGIN:VEVENT
DTSTART;VALUE=DATE:20220613
DTEND;VALUE=DATE:20250505
DTSTAMP:20260421T121240
CREATED:20220516T055311Z
LAST-MODIFIED:20250428T024928Z
UID:5041-1655078400-1746403199@www.anthroposophyau.org.au
SUMMARY:The Parsifal Project: a community arts project
DESCRIPTION: \nThe Parsifal Project\n  \n  \nThe Parsifal Project is a community project that aspires towards a contemporary envisioning of the famous medieval legend\, one that recontextualises the Parsifal legend for a modern multicultural audience.  \nWhat is it about? \nWriters\, poets\, philosophers and artists tell us that myths and legends hold spiritual insights into the sacred wisdom of past cultures\, but what about the spiritual insights we need to navigate our current world? Drawing on the cultural heritages we bring with us\, the Parsifal Project seeks find meaningful resonance between this medieval myth and contemporary intergenerational audiences. \nUsing the talents of a diverse cast and a script written by playwright Peter Oswald\, the project aims to make a significant contribution to our understanding of the Parsifal legend in light of Anthroposophy\, as a cosmopolitan Michaelic impulse and as a metaphor for modern human development. The story is our future; if so\, its mythic themes could be critical to today’s youth\, to all of us.  \nWhether your interest is in the spiritual foundations of the legend\, the literature\, creative writing or performing\, there is something here for anyone and everyone fascinated by the whole collection of Grail legends and its interpretations\, medieval or modern\, book or film. \nTimeline for the project \nThe project has five stages highlighting different arts and media: \n\nJune –  July 2022: Parsifal Unpacked\nCompleted. Explored the original story through performance\, literary text and thematic discussion.  \nSeptember – November 2022: Parsifal Reimagined\nCompleted. A series of  writing workshops where we reimagine the story through the lens of current cultural perspectives. \nJanuary 2023 – November 2023 : Parsifal Rescripted\nOngoing script development in conjunction with performance-based creative development intensives with on-the-floor exploration on the themes explored in Stages 1 and 2.  \nFebruary 2024 – February 2025: Parsifal Reinterpreted\nAuditions\, eurythmy and music workshops from February. Rehearsals begin in April 2024\, using the script based on Parsifal Rescripted. \nApril -May 2025: The Parsifal Project performance\nSaturday 26 April at 5.30 pm ACST\nSaturday 3rd May at at 5.30 pm ACST\nSunday 4th May at 2.30 pm ACST\nVenue: Living Arts Centre\, Mount Barker Waldorf School\, Mt Barker\, SA \n\n  \n  \nProject Director: Jo-anne Sarre\, Artistic Director of Ink Pots Arts \nJo-anne Sarre has worked in the performing arts sector as a freelance director\, actor\, storyteller\, playwright and educator since her four-year Speech and Drama training at The Harkness Studio\, Sydney in 1986. She has a Diploma of Teaching (Primary 1980-1982)\, a Diploma of Creative Speech and Drama (The Harkness Studio in conjunction with The Goetheanum School of Spiritual Science 1983-1986) and first-class Honours in Drama (Flinders University 2009). Other trainings include MICHA in the US and various Michael Chekhov practitioners in the UK and Europe (1997-2009).  \nJo-anne has performed in local\, national and international arenas as an independent performing artist including as a freelance storyteller\, with the Aphaia Eurythmy Group (Poetry Recitation)\, and as an actor with Ink Pot Theatre\, The Rose Theatre Company and Portal Productions UK (The Soul’s Awakening). During her career\, she has trained Steiner/Waldorf teachers across Australia (Rudolf Steiner College\, Sheoak College)\, in the UK (Emerson College)\, India and China. This includes supporting teachers in their own artistic development in poetry recitation\, storytelling\, acting and directing as well as assisting in classrooms\, directing plays etc with both primary and high school students. In 2016\, she was also Assistant Voice Coach at Flinders University Drama Centre with Dawn Langman. \nAs co-founder of Ink Pot Theatre (the professional touring company) and founding Artistic Director of Ink Pot Arts Inc (a community arts not-for-profit)\, she has been actively engaged in bringing high-quality theatre as a catalyst for personal transformation and community cultural development inspired by Anthroposophy. \n  \n  \nFeature image credit:  Seamus McArdle\nPhoto credit: Jo-anne Sarre \n  \n“Most societies have come to define themselves by their historical myths and national narratives. We are\, who we say we are… People grow up believing they live within a story … what is the story we believe we are living within? Where is our narrative going? “   \nProf. David Blight\, 2009
URL:https://www.anthroposophyau.org.au/event/the-parsifal-project-2/
LOCATION:Living Arts Centre\, Mt Barker School\, 27 Sims Road\, Mount Barker\, SA\, 5251
CATEGORIES:Artistic,SA branch
ATTACH;FMTTYPE=image/jpeg:https://www.anthroposophyau.org.au/wp-content/uploads/LamentofParsifalSeamusMcArdle-e1684908163278.jpg
END:VEVENT
BEGIN:VEVENT
DTSTART;VALUE=DATE:20241109
DTEND;VALUE=DATE:20250323
DTSTAMP:20260421T121240
CREATED:20241108T014057Z
LAST-MODIFIED:20241108T020420Z
UID:7788-1731110400-1742687999@www.anthroposophyau.org.au
SUMMARY:Coloured Light and Coloured Shadows Workshops
DESCRIPTION: \nCallout to participants!\nAre you intrigued to be working with living coloured light and luminous coloured shadows to create different realms that our Faust experiences? \nMovers\, dancers\, artists\, speech and drama actors\, and those interested in the magic of puppets are invited to research and create with us in collaborative weekly workshops.  \nDownload the flyer \nWhen \nWeekly workshop from November 2024 to March 2025. \nContact us \nContact us through our website or email Venessa Crane.  \n  \n 
URL:https://www.anthroposophyau.org.au/event/callout-coloured-light-and-coloured-shadows-workshops/
LOCATION:Vic
CATEGORIES:Sydney / St Johns branch
ATTACH;FMTTYPE=image/jpeg:https://www.anthroposophyau.org.au/wp-content/uploads/ColourShadowpic-e1731029627694.jpg
ORGANIZER;CN="Allison Pitt":MAILTO:meandmyshadows@duck.com
END:VEVENT
BEGIN:VEVENT
DTSTART;VALUE=DATE:20250307
DTEND;VALUE=DATE:20250316
DTSTAMP:20260421T121240
CREATED:20241004T030721Z
LAST-MODIFIED:20250220T232835Z
UID:7690-1741305600-1742083199@www.anthroposophyau.org.au
SUMMARY:Me and My Shadows
DESCRIPTION: \nSpiritual Science revealed in Goethe’s masterpiece Faust \nRead our leaflet \n  \nYou are warmly invited to attend our performance. We are endeavouring to bring some of what Steiner brought of the mysteries revealed in Goethe’s “Faust” in the weeks leading to the centenary of Steiner’s crossing of the threshold. \nDownload the poster \nWhat is it about?  \n\n\nMe and My Shadows is a multimedia performance that brings the power of Goethe’s and Steiner’s words with original score played by live musicians\, Eurythmy movement and coloured light and coloured shadow and puppetry art in community. Performances will take place in March 2025 at Rudolf Steiner School theatre. \nThis production of Faust will bring a modernised translation using Goethe words. In addition\, a new character -‘The Teacher’ will present Steiner’s explanations of the strange experiences Goethe wrote as his characters cross the threshold into different spiritual realms. Steiner was deeply impressed with the accuracy of Goethe’s descriptions\, even naming the temples he designed\, after Goethe\, Steiner had the intention of creating a space that would honour and support productions of Faust (and his own ‘Mystery Plays‘) and might even be able to communicate with the plays\, \nFaust reimagined \nThis re-imagining of the 17th -18th Century play Faust explores relevant and crucial contemporary themes such as an epidemic\, mental health\, struggles with addiction\, trauma\, cancelling\, experiences with spiritual beings and living life as a flawed human being who causes much destruction and pain. \nMe and my Shadows will be presented by many creatives as a collaboration of writer and composer\, actors\, musicians\, choir\, eurythmy\, light and coloured shadow artists and crew to bring to the beautiful little theatre at Kamaroi School \,Belrose Sydney in March 2025. \nGratitude for the St John Sydney Group\, The Christian Community Sydney\, Kamaori Rudolf Steiner School\, The Anthroposophical Society in Australia\, Inala\, members from Lorien Novalis Steiner School\, Gleneaon Steiner School\, the School of Spiritual Science and the many individuals who have already dedicated hundreds of hours for their practical and financial support. \nPerformance dates \n2025 \nFriday 7 March at 7.30pm Opening night \nSaturday 8 March at 2.00pm.  \nSenior accessible session\n \nFriday 14 March at 7.30pm\nSaturday 15 March at 2.00pm \nWhere \nKamaroi Rudolf Steiner School\n220 Forest Way\, Belrose NSW 2085 \nFor more information \nPlease contact us \nBookings \nBook here! \n \n  \n  \n\n\n\n  \n  \n\n  \n  \n 
URL:https://www.anthroposophyau.org.au/event/me-and-my-shadows/
LOCATION:Kameroi Rudolf Steiner School\, 220 Forest Way\,\, Belrose\, NSW\, 2085\, Australia
CATEGORIES:Sydney / St Johns branch
ATTACH;FMTTYPE=image/jpeg:https://www.anthroposophyau.org.au/wp-content/uploads/image_123650291-e1731025714768.jpg
ORGANIZER;CN="Allison Pitt":MAILTO:mailto:allisonartist@gmail.com
END:VEVENT
BEGIN:VEVENT
DTSTART;TZID=Australia/Sydney:20250309T133000
DTEND;TZID=Australia/Sydney:20250309T163000
DTSTAMP:20260421T121240
CREATED:20250227T064116Z
LAST-MODIFIED:20250227T064418Z
UID:8062-1741527000-1741537800@www.anthroposophyau.org.au
SUMMARY:The Parsifal Project: Introductory Workshop to the Performance
DESCRIPTION:  \nAn Introductory Workshop to this Unique Story and its Re-imagining with Fiona Campbell & Jo-anne Sarre\n \n  \n  \n  \n  \n  \n  \n  \nBookings
URL:https://www.anthroposophyau.org.au/event/the-parsifal-project-introductory-workshop-to-the-performance/
LOCATION:Anthroposophic Bookshop\, 96 Halifax Street\,\, Adelaide\, SA\, 5000\, Australia
CATEGORIES:SA branch
ATTACH;FMTTYPE=image/jpeg:https://www.anthroposophyau.org.au/wp-content/uploads/Fogvision-1.jpg
ORGANIZER;CN="Ink Pots Arts Inc":MAILTO:quill@inkpot.com.au
END:VEVENT
END:VCALENDAR