BEGIN:VCALENDAR
VERSION:2.0
PRODID:-//Anthroposophical Society in Australia - ECPv6.3.7//NONSGML v1.0//EN
CALSCALE:GREGORIAN
METHOD:PUBLISH
X-ORIGINAL-URL:https://www.anthroposophyau.org.au
X-WR-CALDESC:Events for Anthroposophical Society in Australia
REFRESH-INTERVAL;VALUE=DURATION:PT1H
X-Robots-Tag:noindex
X-PUBLISHED-TTL:PT1H
BEGIN:VTIMEZONE
TZID:Australia/Sydney
BEGIN:STANDARD
TZOFFSETFROM:+1100
TZOFFSETTO:+1000
TZNAME:AEST
DTSTART:20250405T160000
END:STANDARD
BEGIN:DAYLIGHT
TZOFFSETFROM:+1000
TZOFFSETTO:+1100
TZNAME:AEDT
DTSTART:20251004T160000
END:DAYLIGHT
END:VTIMEZONE
BEGIN:VEVENT
DTSTART;TZID=Australia/Sydney:20251026T110000
DTEND;TZID=Australia/Sydney:20251026T123000
DTSTAMP:20260420T044024
CREATED:20250910T015845Z
LAST-MODIFIED:20251007T010225Z
UID:8424-1761476400-1761481800@www.anthroposophyau.org.au
SUMMARY:An Artistic Evening As Antidote
DESCRIPTION: \n \nExploring aspects\, humorous  and grave\, of the Threshold. \nAn Artistic Evening as a medicinal antidote.\nPlease note: date/time changed to Sunday 26th October at 11am. \n\n\n \n \n \nWith support from the Anthroposophical Society in Australia.\n  \n  \nFeature image: Rainbow in the sky\, a sign of Covenant between God and Earth\, by Marc Chagall \n  \n 
URL:https://www.anthroposophyau.org.au/event/artistic-evening-as-antidote/
LOCATION:Kameroi Rudolf Steiner School\, 220 Forest Way\,\, Belrose\, NSW\, 2085\, Australia
CATEGORIES:Sydney / St Johns branch
ATTACH;FMTTYPE=image/png:https://www.anthroposophyau.org.au/wp-content/uploads/Screenshot-2025-09-10-at-11.18.09-am-e1757469323110.png
ORGANIZER;CN="Allison Pitt":MAILTO:meandmyshadows@duck.com
END:VEVENT
END:VCALENDAR