BEGIN:VCALENDAR
VERSION:2.0
PRODID:-//Anthroposophical Society in Australia - ECPv6.3.7//NONSGML v1.0//EN
CALSCALE:GREGORIAN
METHOD:PUBLISH
X-ORIGINAL-URL:https://www.anthroposophyau.org.au
X-WR-CALDESC:Events for Anthroposophical Society in Australia
REFRESH-INTERVAL;VALUE=DURATION:PT1H
X-Robots-Tag:noindex
X-PUBLISHED-TTL:PT1H
BEGIN:VTIMEZONE
TZID:Australia/Sydney
BEGIN:STANDARD
TZOFFSETFROM:+1100
TZOFFSETTO:+1000
TZNAME:AEST
DTSTART:20250405T160000
END:STANDARD
BEGIN:DAYLIGHT
TZOFFSETFROM:+1000
TZOFFSETTO:+1100
TZNAME:AEDT
DTSTART:20251004T160000
END:DAYLIGHT
END:VTIMEZONE
BEGIN:VEVENT
DTSTART;TZID=Australia/Sydney:20251204T200000
DTEND;TZID=Australia/Sydney:20251204T210000
DTSTAMP:20260420T001702
CREATED:20251125T011628Z
LAST-MODIFIED:20251126T035634Z
UID:8551-1764878400-1764882000@www.anthroposophyau.org.au
SUMMARY:Beach Vigil for Marine Life
DESCRIPTION:  \n  \nFeature image: courtesy of Getty Images
URL:https://www.anthroposophyau.org.au/event/beach-vigil-for-marine-life/
LOCATION:Star Of Greece Restaurant\, 1 Esplanade\,\, Port Willunga\, SA\, 5173\, Australia
CATEGORIES:SA branch
ATTACH;FMTTYPE=image/jpeg:https://www.anthroposophyau.org.au/wp-content/uploads/GettyImages-1486461881-664997246.jpg
ORGANIZER;CN="Renate Coolum":MAILTO:renatecoolum@gmail.com
END:VEVENT
END:VCALENDAR