BEGIN:VCALENDAR
VERSION:2.0
PRODID:-//Anthroposophical Society in Australia - ECPv6.3.7//NONSGML v1.0//EN
CALSCALE:GREGORIAN
METHOD:PUBLISH
X-ORIGINAL-URL:https://www.anthroposophyau.org.au
X-WR-CALDESC:Events for Anthroposophical Society in Australia
REFRESH-INTERVAL;VALUE=DURATION:PT1H
X-Robots-Tag:noindex
X-PUBLISHED-TTL:PT1H
BEGIN:VTIMEZONE
TZID:Australia/Sydney
BEGIN:STANDARD
TZOFFSETFROM:+1100
TZOFFSETTO:+1000
TZNAME:AEST
DTSTART:20250405T160000
END:STANDARD
BEGIN:DAYLIGHT
TZOFFSETFROM:+1000
TZOFFSETTO:+1100
TZNAME:AEDT
DTSTART:20251004T160000
END:DAYLIGHT
END:VTIMEZONE
BEGIN:VEVENT
DTSTART;TZID=Australia/Sydney:20251005T160000
DTEND;TZID=Australia/Sydney:20251005T170000
DTSTAMP:20260421T224217
CREATED:20250828T071403Z
LAST-MODIFIED:20250828T071550Z
UID:8379-1759680000-1759683600@www.anthroposophyau.org.au
SUMMARY:Michael and the Wedding Feast
DESCRIPTION:  \nThe Victorian Branch  \npresents
URL:https://www.anthroposophyau.org.au/event/michael-and-the-wedding-feast/
LOCATION:2 Union St\, Kew\, 2 Union St\, Kew\, Melbourne\, Victoria
CATEGORIES:Victoria branch
ORGANIZER;CN="Birgith Lugosi":MAILTO:birgith.lugosi@gmail.com
END:VEVENT
END:VCALENDAR