BEGIN:VCALENDAR
VERSION:2.0
PRODID:-//Anthroposophical Society in Australia - ECPv6.3.7//NONSGML v1.0//EN
CALSCALE:GREGORIAN
METHOD:PUBLISH
X-WR-CALNAME:Anthroposophical Society in Australia
X-ORIGINAL-URL:https://www.anthroposophyau.org.au
X-WR-CALDESC:Events for Anthroposophical Society in Australia
REFRESH-INTERVAL;VALUE=DURATION:PT1H
X-Robots-Tag:noindex
X-PUBLISHED-TTL:PT1H
BEGIN:VTIMEZONE
TZID:Australia/Sydney
BEGIN:STANDARD
TZOFFSETFROM:+1100
TZOFFSETTO:+1000
TZNAME:AEST
DTSTART:20240406T160000
END:STANDARD
BEGIN:DAYLIGHT
TZOFFSETFROM:+1000
TZOFFSETTO:+1100
TZNAME:AEDT
DTSTART:20241005T160000
END:DAYLIGHT
END:VTIMEZONE
BEGIN:VEVENT
DTSTART;VALUE=DATE:20240527
DTEND;VALUE=DATE:20240608
DTSTAMP:20260421T105427
CREATED:20240229T063127Z
LAST-MODIFIED:20240229T063127Z
UID:7059-1716768000-1717804799@www.anthroposophyau.org.au
SUMMARY:Asia-Pacific Rhythmical Massage Therapist Training Program: Module II
DESCRIPTION: \nA 3 year training in Rhythmical Massage Therapy\nas indicated by Dr. Ita Wegman & Dr. Margarethe Hauschka\n\n\n\n\n\n\n  \n\n\n\n\nThis new training based in Bangkok is strongly experiential and includes: \n\nIntensive practical training sessions of the basic principles and practices of Rhythmical Massage Therapy.\nMedical studies that expand the natural scientific understanding with the holistic approach.\nMedicinal plant studies.\nIntroduction to hydrotherapy and external applications including the knowledge and use of aromatic oils.\nProfessional and personal development studies and artistic activities\n\n\n\n\n\nTraining involves not only mastering the techniques of the massage itself\, but also developing an understanding of the human being in health and illness\, both from a conventional and anthroposophic perspective. Students learn a subtle rhythmic quality of touch\, which works to strengthen and enliven the life supporting processes in the human body. \nWhen \nModule II 27th May – 7th June 2024 (12 days) \n\n\n\n\n\n\n\n\nPolarity in Anabolic and Catabolic process\, Hands on Rhythmical Massage\, Therapy Practice\, Elderly care and Eating disorders. \nWhere \n\n\n\n\nBanrak Kindergarten\, 23 Saeng Chan\, Phra Khanong\, Khlong Toei\, Bangkok 10110 \n\n\n\n\nFees \n\n\n\n\n42\,000 Baht/Module or 210\,000 Baht/program includes venue\, training program\, lunch and 2 breaks. \nDoes not include flight ticket\, visa registration fee\, breakfast and dinner\, accommodation and transportation. \n\n\n\n\nRegistration \n\n\n\n\nWrite your Short or Brief Biograpy\, to let us know you more and your motivation to join our program\, Medical License or License to touch\, Photo and Copy of your passport. If you are the medical students\, please provide your condition or certification of your education or study in medicine.  \n\n\n\n\nFind out more \nDownload the flyer \n\n\n\n\nFor International and Asia-Pacific region Name : Thidarat Iwashige or phone : +66 81 874 5217 \n\n\nFor Local Thailand: Kanyanat Likithuttasilp or phone : +66 90 927 9798 \n\n\n\n\n 
URL:https://www.anthroposophyau.org.au/event/asia-pacific-rhythmical-massage-therapist-training-program-module-ii/
LOCATION:Banrak Kindergarten\, 23 Saeng Chan\,\, Phra Khanong\, Khlong Toei\,\, Bangkok\, 10110\, Thailand
CATEGORIES:International
ATTACH;FMTTYPE=image/jpeg:https://www.anthroposophyau.org.au/wp-content/uploads/PicofMassageflyer.jpg
END:VEVENT
END:VCALENDAR