BEGIN:VCALENDAR
VERSION:2.0
PRODID:-//Anthroposophical Society in Australia - ECPv6.3.7//NONSGML v1.0//EN
CALSCALE:GREGORIAN
METHOD:PUBLISH
X-WR-CALNAME:Anthroposophical Society in Australia
X-ORIGINAL-URL:https://www.anthroposophyau.org.au
X-WR-CALDESC:Events for Anthroposophical Society in Australia
REFRESH-INTERVAL;VALUE=DURATION:PT1H
X-Robots-Tag:noindex
X-PUBLISHED-TTL:PT1H
BEGIN:VTIMEZONE
TZID:Australia/Sydney
BEGIN:STANDARD
TZOFFSETFROM:+1100
TZOFFSETTO:+1000
TZNAME:AEST
DTSTART:20240406T160000
END:STANDARD
BEGIN:DAYLIGHT
TZOFFSETFROM:+1000
TZOFFSETTO:+1100
TZNAME:AEDT
DTSTART:20241005T160000
END:DAYLIGHT
END:VTIMEZONE
BEGIN:VEVENT
DTSTART;TZID=Australia/Sydney:20241215T183000
DTEND;TZID=Australia/Sydney:20241215T200000
DTSTAMP:20260420T232050
CREATED:20241212T062117Z
LAST-MODIFIED:20241212T062117Z
UID:7826-1734287400-1734292800@www.anthroposophyau.org.au
SUMMARY:Supporting Patients with COVID
DESCRIPTION:For Anthroposophic Practitioners and Students\n  \n \n 
URL:https://www.anthroposophyau.org.au/event/supporting-patients-with-covid/
LOCATION:Online
CATEGORIES:Australia
ORGANIZER;CN="AAMA":MAILTO:admin@aamaanthro.com
END:VEVENT
END:VCALENDAR