BEGIN:VCALENDAR
VERSION:2.0
PRODID:-//Anthroposophical Society in Australia - ECPv6.3.7//NONSGML v1.0//EN
CALSCALE:GREGORIAN
METHOD:PUBLISH
X-WR-CALNAME:Anthroposophical Society in Australia
X-ORIGINAL-URL:https://www.anthroposophyau.org.au
X-WR-CALDESC:Events for Anthroposophical Society in Australia
REFRESH-INTERVAL;VALUE=DURATION:PT1H
X-Robots-Tag:noindex
X-PUBLISHED-TTL:PT1H
BEGIN:VTIMEZONE
TZID:Australia/Sydney
BEGIN:STANDARD
TZOFFSETFROM:+1100
TZOFFSETTO:+1000
TZNAME:AEST
DTSTART:20240406T160000
END:STANDARD
BEGIN:DAYLIGHT
TZOFFSETFROM:+1000
TZOFFSETTO:+1100
TZNAME:AEDT
DTSTART:20241005T160000
END:DAYLIGHT
END:VTIMEZONE
BEGIN:VEVENT
DTSTART;VALUE=DATE:20240103
DTEND;VALUE=DATE:20240108
DTSTAMP:20260421T035054
CREATED:20231029T235156Z
LAST-MODIFIED:20231029T235245Z
UID:6742-1704240000-1704671999@www.anthroposophyau.org.au
SUMMARY:How do I find the Good? A course for young doctors
DESCRIPTION: \nYIAM Conference 2024\n100 years course for young doctors\nGoetheanum\, Switzerland \n  \nHow do I find the Good? How can we help our patients in their healing process? Our conference honouring the 100 year anniversary of the ‘Course for Young Doctors’ is inspired by these questions as guiding stars. In the lectures of the course there are exercises and meditations as a guide towards spiritual independence\, to learn how to see with the heart and perceive the wisdom of Nature and the Cosmos. We are called to unite the human being once again with this wisdom\, through an unshakeable Will to heal and the realisation of Karma. The content of our conference seeks to explore and develop these and other themes from this course. \nWe\, as an international group of young people in diverse fields of the anthroposophic healing arts\, have been preparing this conference for three years now\, and invite anyone who feels connected to or inspired by the impulse to join! In these Holy Nights between Christmas and Epiphany\, we hope to create space for experience\, encounter\, and inspiration\, so that we can find new strength and courage as we carry Anthroposophic medicine into the future. \nAlong with the rich in-person programme of lectures\, workshops\, and artistic performances\, there will also be an online conference to accompany our conference for those who cannot travel to the Goetheanum. The online conference has come into being as the in-person lectures will not be live-streamed or recorded. Please note that the online conference will be taking place in the middle of the European night\, so that those around the world who can not be present in person\, can attend during their day time. To stay informed about the online conference\, please sign up to our mailing list with the Medical Section here.  We want to do our best to make attendance possible for everyone so please get in touch if financial barriers are in the way.  Childcare is also something we are working on providing for the duration of the conference. \nThis is a hybrid event\, so Zoom participation is possible for those unable to visit Switzerland. \n  \nProgram \nDownload the full program \nFor more information \nFind out more about this exciting conference and how to register. \nTo stay informed about the online conference\, please sign up to our mailing list with the Medical Section here.
URL:https://www.anthroposophyau.org.au/event/how-do-i-find-the-good-a-course-for-young-doctors/
LOCATION:Goetheanum\, Rüttiweg 45 4143\, Dornach\, Switzerland
ATTACH;FMTTYPE=image/jpeg:https://www.anthroposophyau.org.au/wp-content/uploads/HowdoIfindthegoodflyer-e1698623188266.jpeg
END:VEVENT
END:VCALENDAR