BEGIN:VCALENDAR
VERSION:2.0
PRODID:-//Anthroposophical Society in Australia - ECPv6.3.7//NONSGML v1.0//EN
CALSCALE:GREGORIAN
METHOD:PUBLISH
X-ORIGINAL-URL:https://www.anthroposophyau.org.au
X-WR-CALDESC:Events for Anthroposophical Society in Australia
REFRESH-INTERVAL;VALUE=DURATION:PT1H
X-Robots-Tag:noindex
X-PUBLISHED-TTL:PT1H
BEGIN:VTIMEZONE
TZID:Australia/Sydney
BEGIN:STANDARD
TZOFFSETFROM:+1100
TZOFFSETTO:+1000
TZNAME:AEST
DTSTART:20220402T160000
END:STANDARD
BEGIN:DAYLIGHT
TZOFFSETFROM:+1000
TZOFFSETTO:+1100
TZNAME:AEDT
DTSTART:20221001T160000
END:DAYLIGHT
END:VTIMEZONE
BEGIN:VEVENT
DTSTART;TZID=Australia/Sydney:20220131T220000
DTEND;TZID=Australia/Sydney:20220131T230000
DTSTAMP:20260422T211658
CREATED:20220110T015217Z
LAST-MODIFIED:20220110T033837Z
UID:4486-1643666400-1643670000@www.anthroposophyau.org.au
SUMMARY:28 Days of Insights\, Art and Encounter
DESCRIPTION:  \n‘28 Days of Insights\, Art and Encounter’\, the online study programme offered by the Goetheanum\, creates a space for finding inner strength and for keeping one‘s thinking flexible by sharing contents and artistic activities with others. \n“In times of change or restlessness the need for orientation grows. Focusing on a particular thought of one‘s own choice can be a source of strength in that situation\,” says Edda Nehmiz\, the Goetheanum Studies coordinator. Not just accepting a given thought but approaching it from different angles\, experiencing it as flexible yet not arbitrary – is what the Goetheanum Studies programme is aiming to achieve. \nThis international study programme offers study work and colloquia at a fixed time for 75 minutes per day online and 20 minutes daily\, each of eurythmy\, art and short contributions via video. Study work in German/English/Spanish/Portuguese and French. The language of communication in the colloquia is English. \nProgram \nThis international study programme is being offered three times a year. \nNext online courses (plenum in English) \n1 31 January to 27 February 2022\, 12 noon CET/10 pm AEDT\n2 4 September to 1 October 2022\, 9 am CET \nApply here! \nApply here \nFor more information \nFor more detailed information about this course\, check here or other online courses\, check here. \n 
URL:https://www.anthroposophyau.org.au/event/28-days-of-insights-art-and-encounter/
LOCATION:Goetheanum online
CATEGORIES:International
ATTACH;FMTTYPE=image/jpeg:https://www.anthroposophyau.org.au/wp-content/uploads/GoetheanCourses-e1641779420158.jpg
END:VEVENT
END:VCALENDAR