BEGIN:VCALENDAR
VERSION:2.0
PRODID:-//Anthroposophical Society in Australia - ECPv6.3.7//NONSGML v1.0//EN
CALSCALE:GREGORIAN
METHOD:PUBLISH
X-WR-CALNAME:Anthroposophical Society in Australia
X-ORIGINAL-URL:https://www.anthroposophyau.org.au
X-WR-CALDESC:Events for Anthroposophical Society in Australia
REFRESH-INTERVAL;VALUE=DURATION:PT1H
X-Robots-Tag:noindex
X-PUBLISHED-TTL:PT1H
BEGIN:VTIMEZONE
TZID:Europe/Zurich
BEGIN:DAYLIGHT
TZOFFSETFROM:+0100
TZOFFSETTO:+0200
TZNAME:CEST
DTSTART:20230326T010000
END:DAYLIGHT
BEGIN:STANDARD
TZOFFSETFROM:+0200
TZOFFSETTO:+0100
TZNAME:CET
DTSTART:20231029T010000
END:STANDARD
END:VTIMEZONE
BEGIN:VEVENT
DTSTART;TZID=Europe/Zurich:20231122T200000
DTEND;TZID=Europe/Zurich:20231122T213000
DTSTAMP:20260421T022016
CREATED:20230917T235808Z
LAST-MODIFIED:20230918T034004Z
UID:6599-1700683200-1700688600@www.anthroposophyau.org.au
SUMMARY:Livestream lectures from the Goetheanum
DESCRIPTION:Coming up \n\nNovember 22\, 20:00 | Constanza Kaliks: Emmanuel Levinas\nNovember 30\, 20:00 | Peter Selg: Paul Celan\nDecember 21\, 20:00 | Peter Selg: Rudolf Steiner’s preparation of the Christmas Conference\n\nAll times are Central European Time (CET) – Livestreams will appear below at the indicated time / date. \nOtherwise\, recordings of previous lectures will be displayed. \n  \nFind out more \nPrevious lectures \n  \n 
URL:https://www.anthroposophyau.org.au/event/livestream-lectures-from-the-goetheanum/
LOCATION:Goetheanum online
CATEGORIES:International
ATTACH;FMTTYPE=image/jpeg:https://www.anthroposophyau.org.au/wp-content/uploads/Haus-Maryon-1.jpg
END:VEVENT
END:VCALENDAR