BEGIN:VCALENDAR
VERSION:2.0
PRODID:-//Anthroposophical Society in Australia - ECPv6.3.7//NONSGML v1.0//EN
CALSCALE:GREGORIAN
METHOD:PUBLISH
X-ORIGINAL-URL:https://www.anthroposophyau.org.au
X-WR-CALDESC:Events for Anthroposophical Society in Australia
REFRESH-INTERVAL;VALUE=DURATION:PT1H
X-Robots-Tag:noindex
X-PUBLISHED-TTL:PT1H
BEGIN:VTIMEZONE
TZID:Australia/Sydney
BEGIN:STANDARD
TZOFFSETFROM:+1100
TZOFFSETTO:+1000
TZNAME:AEST
DTSTART:20220402T160000
END:STANDARD
BEGIN:DAYLIGHT
TZOFFSETFROM:+1000
TZOFFSETTO:+1100
TZNAME:AEDT
DTSTART:20221001T160000
END:DAYLIGHT
END:VTIMEZONE
BEGIN:VEVENT
DTSTART;TZID=Australia/Sydney:20221116T190000
DTEND;TZID=Australia/Sydney:20221116T210000
DTSTAMP:20260423T145347
CREATED:20221020T063724Z
LAST-MODIFIED:20221114T080719Z
UID:5547-1668625200-1668632400@www.anthroposophyau.org.au
SUMMARY:What is Phenomenology?
DESCRIPTION:  \nStream of Life Research Studio presents \na webinar\, a dialogue\, a sharing and questioning session \n  \nPhenomenology is a way of seeing the world \nPhenomenology is the study of the lived experience as it was/is lived \nPhenomenology a means of investigation which permits us to grow beyond ourselves \nGoethean Science is phenomenological in approach\, and is well known in anthroposophical circles as a qualitative approach to understanding the natural sciences. But phenomenology as a methodology for wider anthroposophic-based application is becoming increasingly popular in our circles; and the term ‘lived experience’ has gone into the our everyday language.  \nBut it can be confusing! Everyone has a different understanding of just what phenomenology is and how to apply it. \nTell me more \nThis webinar aims to unpack phenomenology as a philosophy\, as a research methodology\, and as a practice from the perspective of different researchers and practitioners from different fields and disciplines who use this approach in their work. \nThe session takes the form of presentations and dialogue as to our shared understandings of what we each mean by phenomenology. And if you are not a practitioner but would like to know more\, come along and ask questions. We’d love to share our passion with you! \nWho is it for?  \nAny one interested in finding out more about phenomenology. All welcome! \nProgram  \nWe open with the questions: What counts as phenomenology? What is the essence of phenomenology\, for all forms and approaches?  \nSeven researchers and practitioners share their experiences: Martin Samson (theology)\, Fiona Campbell (human sciences)\, Joanna Jaaniste (dramatherapy)\, Peter Stewart (Goethean Science)\, Greg Burgess (architecture)\, Lisa Devine (theology) and Teresa Carapeto (Education).  \nEach presenter describes their understanding through the lens of these four key characteristics: \n\nAn open attitude: how do I see with “new eyes”?  \nDwelling: how do I immerse myself into the object\, how do I engage with the experience\, the information?\nDisclosure: how can I reveal the essence of the phenomenon in question?\nDescription: sharing my experiences of working phenomenologically. How do I do this? \n\nQ&A session followed by a summing up of what we’ve learned. \nHow does it impact my professional practice? My way of seeing the world? \nSo what is phenomenology? and can anyone practice it? \nAnd is there interest for further discussion in an ongoing group? \nWhen will this webinar take place?  \n7pm Wednesday 16th November 2022 online \nCost \nBy donation  \nRegistration \nTo register \nHow to join the webinar \nAfter registration\, participants will be sent the Zoom link by email two (2) days beforehand\, and then again one (1) hour beforehand. \nPlease login for the webinar via your Zoom app and not via Eventbrite. \nFor more information \nPlease contact Fiona Campbell or Martin Samson
URL:https://www.anthroposophyau.org.au/event/what-is-phenomenology/
LOCATION:Online
CATEGORIES:Australia,International
ATTACH;FMTTYPE=image/jpeg:https://www.anthroposophyau.org.au/wp-content/uploads/StreamOfLife.jpg
ORGANIZER;CN="Martin Samson":MAILTO:msamson@email.org.au
END:VEVENT
END:VCALENDAR