BEGIN:VCALENDAR
VERSION:2.0
PRODID:-//Anthroposophical Society in Australia - ECPv6.3.7//NONSGML v1.0//EN
CALSCALE:GREGORIAN
METHOD:PUBLISH
X-ORIGINAL-URL:https://www.anthroposophyau.org.au
X-WR-CALDESC:Events for Anthroposophical Society in Australia
REFRESH-INTERVAL;VALUE=DURATION:PT1H
X-Robots-Tag:noindex
X-PUBLISHED-TTL:PT1H
BEGIN:VTIMEZONE
TZID:Australia/Sydney
BEGIN:STANDARD
TZOFFSETFROM:+1100
TZOFFSETTO:+1000
TZNAME:AEST
DTSTART:20220402T160000
END:STANDARD
BEGIN:DAYLIGHT
TZOFFSETFROM:+1000
TZOFFSETTO:+1100
TZNAME:AEDT
DTSTART:20221001T160000
END:DAYLIGHT
END:VTIMEZONE
BEGIN:VEVENT
DTSTART;TZID=Australia/Sydney:20221210T090000
DTEND;TZID=Australia/Sydney:20221210T170000
DTSTAMP:20260425T212438
CREATED:20221025T223811Z
LAST-MODIFIED:20221026T034820Z
UID:5598-1670662800-1670691600@www.anthroposophyau.org.au
SUMMARY:Inscribing Signs with a Finger Dipped in Light
DESCRIPTION:  \nHosted by Story Vision \nA Spiritual-Cultural Approach to Dying\, Death and Life\n  \nPresenters: Irmhild Kleinhenz\, Iris Curteis \nInscribing Signs with a Finger dipped in Light is a one-day presentation that offers non-denominational insights\, creative activities\, holistic approaches to dying\, death and life. We will use poetry\, storytelling\, contemplative exercises to explore the questions:  \n  \nWhat is Death? \nWhat does it mean to die? \nHow do I accompany someone who is dying? \nHow do I prepare myself? \n  \nTime/Date \n9:00am – 5:00pm\, 10th December; 2022. \nVenue \n15 Haydon Street\, North Dorrigo NSW 2453\, Australia \nCosts  \nGeneral Admission $120\nEarly Bird Singles $90 (8 November)\nEarly Bird Couples p.p. $200 (8 November)\nCouples $220\nEnterprises\, professional groups (3+) $100 pp. \nBookings \nBook here! \nDownload program \nFor more information \nContact Iris Curteis  mob: 0487 719 476 or Irmhild Kleinhanz 0444 551 381 \n  \nAbout the presenters \nIris Curteis\, PhD\, Storyteller and Social Artist \nIris Curteis is a storyteller and social artist who encountered Steiner’s work as an 18-year-old and had the privilege to meet and learn from inspiring\, knowledgeable\, and creative teachers in Europe. She studied visual arts\, dramatic arts [speech formation] in Stuttgart; a BA & BA Hon. in Creative Writing (SCU; UNE)\, and explored Storytelling and Community Building in her PhD thesis [SCU]. Working as a storyteller for several decades has convinced her that storytelling empowers our imagination and creative thinking and encourages us to appreciate our lives as works of art. As a social artist\, she is passionate about using art\, threefolding and creativity to examine and change the way we think\, build our capacity to shape more humane communities and support transformational change. She has explored the power of the human voice and the possibility to use the creative spoken word\, sounds and storytelling to support those who are approaching death; to overcome a sense of overwhelm and loneliness. Storytelling takes us into a liminal space – a crossing of thresholds – that can support us to gently and consciously enter a different state of being.  \nIrmhild Kleinhenz\, Anthroposophic Naturopath and Mentor\, ISAM\, ANTA accredited fellow. \nIrmhild has over forty years of experience in Anthroposophic medical therapeutic work. Her background includes studies in the Anthroposophic Medicine Orientation Training\, Lukas Klinik\, Switzerland\, studies in the prescription of Curative Eurythmy\, Goetheanum\, Switzerland. \nIrmhild works with allied medical practitioners and therapists to ensure a highly professional and personal approach to health care. She holds public lectures on health and spiritual enrichment\, works as a tutor and mentor for allied health professionals and Steiner teachers and supports Steiner schools as a school health consultant. \n  \nPhoto credit: At the Threshold of the Spiritual World\, Lianne Collot d’Herbois 
URL:https://www.anthroposophyau.org.au/event/inscribing-signs-with-a-finger-dipped-in-light/
LOCATION:15 Haydon Street\, North Dorrigo NSW 2453\, Australia
CATEGORIES:Northern Rivers branch
ATTACH;FMTTYPE=image/jpeg:https://www.anthroposophyau.org.au/wp-content/uploads/Liane-Collot-dHerbois-Threshold-of-the-Spiritual-World-Liane-Collot-dHerbois-e1666737988477.jpeg
ORGANIZER;CN="Iris Curteis":MAILTO:an_lomall@bigpond.com
END:VEVENT
END:VCALENDAR