BEGIN:VCALENDAR
VERSION:2.0
PRODID:-//Anthroposophical Society in Australia - ECPv6.3.7//NONSGML v1.0//EN
CALSCALE:GREGORIAN
METHOD:PUBLISH
X-ORIGINAL-URL:https://www.anthroposophyau.org.au
X-WR-CALDESC:Events for Anthroposophical Society in Australia
REFRESH-INTERVAL;VALUE=DURATION:PT1H
X-Robots-Tag:noindex
X-PUBLISHED-TTL:PT1H
BEGIN:VTIMEZONE
TZID:Australia/Sydney
BEGIN:STANDARD
TZOFFSETFROM:+1100
TZOFFSETTO:+1000
TZNAME:AEST
DTSTART:20220402T160000
END:STANDARD
BEGIN:DAYLIGHT
TZOFFSETFROM:+1000
TZOFFSETTO:+1100
TZNAME:AEDT
DTSTART:20221001T160000
END:DAYLIGHT
END:VTIMEZONE
BEGIN:VEVENT
DTSTART;TZID=Australia/Sydney:20220831T190000
DTEND;TZID=Australia/Sydney:20221012T203000
DTSTAMP:20260422T160438
CREATED:20220614T060926Z
LAST-MODIFIED:20220615T001133Z
UID:5167-1661972400-1665606600@www.anthroposophyau.org.au
SUMMARY:Five Southern Hemisphere Post-Atlantean Cultural Ages
DESCRIPTION:  \nWhat role do Southern Hemisphere high cultures play in the evolution of consciousness? \nThis series of lectures is relevant to anyone who wishes to understand the earth as a whole organism\, not just people in the southern hemisphere! \nRudolf Steiner’s Seven Post-Atlantic cultural Epochs are located in the Mesopotamian Cradle. There are other cultures in the world that also play a role in guiding humanity. For example the emergence of the Mexican culture. But what of others: Australian\, South American\, African and Polynesian? \nWhen? \nSeven lectures: Wednesday evenings 7 – 8.30pm \nAugust 31; September 7\, 14\, 21\, 28; October 5\, 12 \nWhere? \nThis is a hybrid event\, live at Rudolf Steiner House and online via Zoom.  \nA recurring Zoom link will be sent two days before the first event.\nRecordings will be available afterward. \nHow to register \nRegister here! \nFor more information download the flyer or contact Martin Samson
URL:https://www.anthroposophyau.org.au/event/five-southern-hemisphere-post-atlantean-cultural-ages/
LOCATION:Rudolf Steiner House\, 307 Sussex Street\, Sydney\, NSW\, 2000
CATEGORIES:International,Sydney / St Johns branch
ATTACH;FMTTYPE=image/jpeg:https://www.anthroposophyau.org.au/wp-content/uploads/glaciokarstNamadgi-e1655186931846.jpg
ORGANIZER;CN="Martin Samson":MAILTO:msamson@email.org.au
END:VEVENT
END:VCALENDAR