BEGIN:VCALENDAR
VERSION:2.0
PRODID:-//Anthroposophical Society in Australia - ECPv6.3.7//NONSGML v1.0//EN
CALSCALE:GREGORIAN
METHOD:PUBLISH
X-WR-CALNAME:Anthroposophical Society in Australia
X-ORIGINAL-URL:https://www.anthroposophyau.org.au
X-WR-CALDESC:Events for Anthroposophical Society in Australia
REFRESH-INTERVAL;VALUE=DURATION:PT1H
X-Robots-Tag:noindex
X-PUBLISHED-TTL:PT1H
BEGIN:VTIMEZONE
TZID:Australia/Sydney
BEGIN:STANDARD
TZOFFSETFROM:+1100
TZOFFSETTO:+1000
TZNAME:AEST
DTSTART:20220402T160000
END:STANDARD
BEGIN:DAYLIGHT
TZOFFSETFROM:+1000
TZOFFSETTO:+1100
TZNAME:AEDT
DTSTART:20221001T160000
END:DAYLIGHT
END:VTIMEZONE
BEGIN:VEVENT
DTSTART;TZID=Australia/Sydney:20220122T060000
DTEND;TZID=Australia/Sydney:20220402T073000
DTSTAMP:20260426T065945
CREATED:20220121T010955Z
LAST-MODIFIED:20220208T002644Z
UID:4596-1642831200-1648884600@www.anthroposophyau.org.au
SUMMARY:The Representative of Humanity online
DESCRIPTION: \nExploring Rudolf Steiner’s Sculptural Group \nA series of ongoing zoom seminars hosted by Rudolf Steiner House\, London \n  \n  \nAll welcome\, no need to book\, no charge! \nDate/Time for early birds in Australia \nTime: 7.00pm-8.30pm (UK time)/6.00am-7.30am (AEDT)\nDates: 22 January\, 5/19 February\, 5/12/19 March\, 2 April Australian time \n  \nProgram \n21 January: Introducing Rudolf  Steiner’s Sculptural Group with Howard Smith  \nIn his last years\, Rudolf Steiner worked intensively on the wooden statue usually known as “The Representative of Mankind”. This work of art encapsulates the essence of earth evolution and the mission of Christ\, keeping the balance between the adversarial forces. This illustrated talk will look at some of the main details in the work\, and it’s message to us today. \nHoward is a life-long student of Anthroposophy. He has a PhD in Chemistry and worked as a researcher into the properties of water and as a science teacher. He founded the Science Group of the Anthroposophical Society in Great Britain and now works as a piano technical specialist.   \n4 February: Dynamic Relationships in the Representative of Humanity with Angus Jenkinson \nSteiner’s extraordinary statue seems to capture perhaps the most essential dynamics in the drama of a human life. Can we perceive these? What do we see? What do these dynamic relationships mean? Does it illuminate the Earth and its people? And in our own body\, soul\, and spirit? Do these dynamics reveal secrets such as those of evil\, failure\, and loving victory? Angus will enquire how this majestic artwork reveals dynamics of our souls and how our souls may help us understand the statue in a deeper way. Might this be life changing? \nAngus Jenkinson is a transdisciplinary research fellow and class holder who also works with organisational purpose. He is the author of 4 books\, including From Stress to Serenity: Gaining Strength in the Trials of Life and as co-author of Liquidity on the ecology of money. He is writing a book on Ecologic. \n18 February: The Christ with Peter Van Breda \nThe central figure of the sculpture\, known as the representative of humanity\, represents the Christ. He stands\, in characteristic gesture\, beside and beneath the forces that take us ‘out of ourselves’ and beside and above the forces that would harden\, drag us down and bind us to the earth. What can we learn of the Christ by contemplating this figure ? \nPeter Van Breda lives in London and is a priest of The Christian Community\, a movement for religious renewal.  \n4 March: Exploring Inner Balance with Caroline Chanter \nGerard Wagner worked with the Representative of Humanity as an image of balance applicable to polarities in the human being\, in general life\, and in art. Polarities between the ‘opposing forces’\, represented by Lucifer and Ahriman\, exist also in the colours. Because of this\, painting can consciously become a balancing act between the ‘luciferic’ and ‘ahrimanic’\, which in turn unites the heart of the painter with the feeling of inner balance that has arisen through the uniting of polarities. Could this be an approach to a new Christian Art? \nCaroline Chanter is a painter and art therapist. She teaches at the ‘Rudolf Steiner Painting School’ in Dornach and at ‘Swaasthyakala Niketan’\, a painting therapy school in Bangalore\, India. She has written two books about Gerard Wagner the latest an extensive biography A Life with Colour (Rudolf Steiner Press 2021). \n 11 March: The Representative of Humanity and the Revelation of the New Mysteries\, a conversation with Marguerite Miller \nWith a focus on the role of the Representative of Humanity\, Marguerite will offer an introduction to Rudolf Steiner’s preparation of humanity for the reappearance of Christ in the etheric.  In an open conversation to follow\, we will seek to create a shared imagination of our own role in freely manifesting the future within the stream of the New Mysteries. \nMarguerite Miller is a translator who lives in the American Midwest.  During her decades of engagement with spiritual science she has pursued her interest in the history of the Mysteries and the history and gestures of Rudolf Steiner’s teaching. \n 18 March: What is asked of the human being in our time? with Deborah Ravetz  \nSchiller said: ‘Live with your century\, but do not be its creature. Work for your contemporaries; but create what they need\, not what they praise.’ To be a contemporary means to be aware of what is happening in the present and to bring new impulses for the future. This talk will use story\, art and literature to suggest a way in which we can acknowledge the past\, be part of understanding our present and respond to the challenge of finding creative ideas for humanity now. \nDeborah Ravetz trained as a painter and Social Sculpture practitioner. She lectures and writes on the evolution of consciousness through art history\, literature and biography. The focus of her interest is the quest for authentic selfhood\, the possibility of community\, freedom and service. \n1 April: The Role of Resistance – The Adversaries\, servants of God or enemies of Man? with Geoffrey Norris  \nWhat is evil and how do we face it ?  We maybe recognise those beings portrayed in the sculpture\, Lucifer and Ahriman\, as enemies to be fought with and overcome. Or can we relate to them as servants of God who have actually been sent to help us ? As we see the portrayal of these beings sited together at the right hand side of the representative of humanity how do we relate to them ? Could they be serving us AND tempting us ? Then when we go on to contemplate them ‘fallen’ and ‘bound’ as they appear in the statue   how do they enter our consciousness ? \nGeoffrey Norris is a speech artist and teacher\, actor and director who gives regular speech classes and seminars.      \n  \nCost \nVoluntary donations towards costs and overheads are gratefully received and can be made by transfer to a Nationwide account held for this purpose.  \nAccount name: Adrian Hotten\, sort code: 07-01-16 account number: 31466776 \nHow to join  \nZoom link \nMeeting ID: 826 3212 9836\, \nPasscode: 755359\nFind your local number: https://us02web.zoom.us/u/kw5KhlMVS \nFor more information \nPlease contact Sue Peat for more information about the series\nContact Brendon McQuillan  join the London e-mailing list\nBrowse the Rudolf Steiner House London What’s On for more events  \n  \nFeatured image: Representative of Humanity (detail) by Rudolf Steiner and Edith Maryon\, 1924\, courtesy of AnthroWiki \n  \n  \n  \n  \n  \n  \n  \n  
URL:https://www.anthroposophyau.org.au/event/the-representative-of-humanity-seminars-exploring-rudolf-steiners-sculptural-group/
LOCATION:Online
CATEGORIES:International
ATTACH;FMTTYPE=image/jpeg:https://www.anthroposophyau.org.au/wp-content/uploads/Sculpture-by-Rudolf-Steiner-0011-e1642727432618.jpg
END:VEVENT
BEGIN:VEVENT
DTSTART;TZID=Australia/Sydney:20220130T200000
DTEND;TZID=Australia/Sydney:20220424T213000
DTSTAMP:20260426T065945
CREATED:20220120T043446Z
LAST-MODIFIED:20220427T090234Z
UID:4583-1643572800-1650835800@www.anthroposophyau.org.au
SUMMARY:St John's Gospel monthly study group
DESCRIPTION:Facilitator: Martin Samson \nWorking with contemplative phenomenology on the Gospel of John\, this ongoing study group will explore an anthroposophical path to awakening the soul and spiritual senses. There will be opportunities for discussion\, guidance\, and questions around meditation and living a spiritual year. \nThis study builds on the The Twelve Days of Christmas – Holy Nights Contemplations led by Martin Samson over Christmastide to Epiphany in 2021-22 and isa prototype for five months to see if it works for everyone involved. After the May evening\, it will review to assess its continuation. \nProgram \n\n\nUnderstanding methods of Contemplative Phenomenology.\nWorking with Rudolf Steiner’s approach to the Gospels\, starting with the Gospel of John as an esoteric initiation text.\nUnderstanding meditation from an anthroposophical approach and living with the spiritual cycle of the year.\n\n\nThere is likely to be ongoing work to do between meetings. This will be up to the participants how much they undertake the recommendations. \nWhen and where \n8.00pm-9.30pm AEDT on the last Sunday of each month (January through to May) to allow for the various time zones involved   \nRegistration details\nPlease look at the next panel down on this email for registration detail\, or click here \nOne registration will give you access to five events. \nCost \nThe recommended donation is $50 for the five events. \nTo register \nYou will be sent the zoom link in an email two days before the event. Please login via the Zoom app and not Eventbrite. \nRegister here! \n \nFor more information\nFor more information or to register after 30 January 2022\, please contact Martin Samson \n \n 
URL:https://www.anthroposophyau.org.au/event/st-johns-gospel-monthly-study-group/
LOCATION:Online
CATEGORIES:Australia
ATTACH;FMTTYPE=image/jpeg:https://www.anthroposophyau.org.au/wp-content/uploads/Easter-2017.jpg
ORGANIZER;CN="Martin Samson":MAILTO:msamson@email.org.au
END:VEVENT
END:VCALENDAR