BEGIN:VCALENDAR
VERSION:2.0
PRODID:-//Anthroposophical Society in Australia - ECPv6.3.7//NONSGML v1.0//EN
CALSCALE:GREGORIAN
METHOD:PUBLISH
X-WR-CALNAME:Anthroposophical Society in Australia
X-ORIGINAL-URL:https://www.anthroposophyau.org.au
X-WR-CALDESC:Events for Anthroposophical Society in Australia
REFRESH-INTERVAL;VALUE=DURATION:PT1H
X-Robots-Tag:noindex
X-PUBLISHED-TTL:PT1H
BEGIN:VTIMEZONE
TZID:Australia/Sydney
BEGIN:STANDARD
TZOFFSETFROM:+1100
TZOFFSETTO:+1000
TZNAME:AEST
DTSTART:20250405T160000
END:STANDARD
BEGIN:DAYLIGHT
TZOFFSETFROM:+1000
TZOFFSETTO:+1100
TZNAME:AEDT
DTSTART:20251004T160000
END:DAYLIGHT
END:VTIMEZONE
BEGIN:VEVENT
DTSTART;TZID=Australia/Sydney:20250313T190000
DTEND;TZID=Australia/Sydney:20250410T203000
DTSTAMP:20260420T234931
CREATED:20250203T042319Z
LAST-MODIFIED:20250210T083627Z
UID:7997-1741892400-1744317000@www.anthroposophyau.org.au
SUMMARY:Spiritual Food for BD Farmers and Home Gardeners
DESCRIPTION:Spirit in Matter\n\n\n\n\npresents\n\n\n\n5 Consecutive Lectures \nSpiritual Food for\n BD Farmers and Home Gardeners\nAll Welcome\nwith\n\nJohannes Schuster\n  \nWhen \nStarting 13th March\, 7.00 pm – 8.30 pm AEDT \nCost \nJoin the Full Lecture Series: Early Bird Price: AUD$72 (Until February 20)\nRegular price: AUD $97 | Couples: AUD $144 | Concession: AUD$72 \nRegister for Free Lecture \n\nRegister for remaining Lectures \n \n  \n  \n  \n  \n  \nFind out more \nWatch an introduction to the the theme \n \nVisit the website or contact for more information.  \n  \n 
URL:https://www.anthroposophyau.org.au/event/spiritual-food-for-bd-farmers-and-home-gardeners/
LOCATION:Online
CATEGORIES:Australia
END:VEVENT
END:VCALENDAR