BEGIN:VCALENDAR
VERSION:2.0
PRODID:-//Anthroposophical Society in Australia - ECPv6.3.7//NONSGML v1.0//EN
CALSCALE:GREGORIAN
METHOD:PUBLISH
X-WR-CALNAME:Anthroposophical Society in Australia
X-ORIGINAL-URL:https://www.anthroposophyau.org.au
X-WR-CALDESC:Events for Anthroposophical Society in Australia
REFRESH-INTERVAL;VALUE=DURATION:PT1H
X-Robots-Tag:noindex
X-PUBLISHED-TTL:PT1H
BEGIN:VTIMEZONE
TZID:Australia/Sydney
BEGIN:STANDARD
TZOFFSETFROM:+1100
TZOFFSETTO:+1000
TZNAME:AEST
DTSTART:20240406T160000
END:STANDARD
BEGIN:DAYLIGHT
TZOFFSETFROM:+1000
TZOFFSETTO:+1100
TZNAME:AEDT
DTSTART:20241005T160000
END:DAYLIGHT
END:VTIMEZONE
BEGIN:VEVENT
DTSTART;TZID=Australia/Sydney:20241012T100000
DTEND;TZID=Australia/Sydney:20241130T160000
DTSTAMP:20260421T080815
CREATED:20241018T034748Z
LAST-MODIFIED:20241018T035250Z
UID:7718-1728727200-1732982400@www.anthroposophyau.org.au
SUMMARY:Biodynamics Sydney Spring Workshops 2024
DESCRIPTION:Biodynamics Sydney presents \nCOSMOS – EARTH – HUMAN\nBiodynamic Centenary Workshops 2024 \n  \nDeepen your knowledge and hands-on skills – for gardeners and consumers. \n \n12 October:  Gladesville 10.00 am-4.00 pm \n\nPreparation Making 2 \nTransforming degraded dirt into premium fertility on a farm\, park\, verge\, backyard – as little as 1-2 sqm. \n\n19 October:  Warrah Farm\, Dural 10.30 am-3.30 pm \n\nPreparation Making 3 \nDeep ecology \nEarth/planetary rhythms and breathing \nThe daily walk around the farm. \nRe-imagining the Earth \n\n23 November: Sydney 10.30 am-4.00 pm \n\nNutrition\, food and wine \nMilk from de-horned cows \nAllergies \nSoil testing by hand\, Scientific tests \nHarvesting and seed-saving \nEat a BD apple – help farmers to mitigate climate change! \n\n30 November: Gladesville 10.30 am-4.00 pm \n         Eclipses\, rainbows\, tropical storms \n         Finding a way through all the new energies – how do they work? \n         Organic/permaculture/biodynamic? \n         Regenerate a degraded 1sqm plot – a great use for CO2 \nCost \nBook early for this popular course.\n$395 by 1st October\n$350  Biodynamics Sydney members ($50p.a.\, $20 p.a. under 40’s)\nPreparations samples to take home \nFind out more \nFor registrations and information\, Diane Watkin ph: 9550 1682 or visit Biodynamics Sydney  \n  \nFeature photo: Blackboard Drawing\, Lecture Two\, courtesy of Diane Watkin \n  \n 
URL:https://www.anthroposophyau.org.au/event/biodynamics-sydney-spring-workshops-2024/
LOCATION:West Java
CATEGORIES:Sydney / St Johns branch
ATTACH;FMTTYPE=image/jpeg:https://www.anthroposophyau.org.au/wp-content/uploads/Blackboard-drawing-lecture-two-e1729222871279.jpg
ORGANIZER;CN="Diane Watkin":MAILTO:biodynamicssydney@gmail.com
END:VEVENT
END:VCALENDAR