BEGIN:VCALENDAR
VERSION:2.0
PRODID:-//Anthroposophical Society in Australia - ECPv6.3.7//NONSGML v1.0//EN
CALSCALE:GREGORIAN
METHOD:PUBLISH
X-ORIGINAL-URL:https://www.anthroposophyau.org.au
X-WR-CALDESC:Events for Anthroposophical Society in Australia
REFRESH-INTERVAL;VALUE=DURATION:PT1H
X-Robots-Tag:noindex
X-PUBLISHED-TTL:PT1H
BEGIN:VTIMEZONE
TZID:Australia/Sydney
BEGIN:STANDARD
TZOFFSETFROM:+1100
TZOFFSETTO:+1000
TZNAME:AEST
DTSTART:20240406T160000
END:STANDARD
BEGIN:DAYLIGHT
TZOFFSETFROM:+1000
TZOFFSETTO:+1100
TZNAME:AEDT
DTSTART:20241005T160000
END:DAYLIGHT
END:VTIMEZONE
BEGIN:VEVENT
DTSTART;VALUE=DATE:20240511
DTEND;VALUE=DATE:20240513
DTSTAMP:20260423T182034
CREATED:20240504T064045Z
LAST-MODIFIED:20240504T064350Z
UID:7308-1715385600-1715558399@www.anthroposophyau.org.au
SUMMARY:Breathing with the Climate Crisis: Ueli Hurter Tour NSW
DESCRIPTION:  \nBiodynamics Sydney Centenary Conference Sun-Soil-Food\nThe Biodynamics Centenary Tour\nSydney visit: 11th and 12th May \n  \nA series of lectures\, discussions and artistic presentations to celebrate the 100 years contribution of biodynamics to science\, the life of the soil and cultural life. \nThe Sydney Centenary Conference has an exciting lineup of international\, interstate and local speakers. \nHear how climate change can be mitigated by using (not just storing) atmospheric carbon in the soil to combat greenhouse gases. \nMeet experts and people from related fields – nutrition\, soil fertility\, and social initiatives. \nCreate networks and opportunities to work together for a common goal. \nFind out about practices which have been in use globally for 100 years and have proved their efficacy many times over. \nEnjoy cultural offerings – music\, drama\, eurythmy and art \nYou can also visit the lunchtime Sale Table and Rudolf Steiner Book Centre\, which will be open at all the breaks. \nThere are also two art exhibitions on the ground floor and the top floor. \nMost importantly\, you will be part of the living human presence which is so important for the speakers and the conference as a whole. \nWhen is it? \n\n11th May 2024\, 9.30am-5.00pm\n12th May 2024\, 9.30am-9.00pm \nWhere \nRudolf Steiner House\, \n307 Sussex Street \nSydney 2001 \nCost \n$240 \n  \nKeynote lectures \nSun-Earth-Moon\, with Ueli Hurter\, 9.30 am\, Saturday 11th May \nEncounters with the principles and practices used in the worldwide biodynamic agriculture movement\, .Can a positive solution be found in a contribution to environmental crises? \nA Desert Miracle with Helmy Abouleish\, SEKEM Community\, Egypt. 1.30pm Sunday 12th May \nMuslims\, Jews\, Christians working and liveing together using biodynamics and government cooperation. \nLive stream bookings \nRegister for lectures by Ueli Hurter and Helmy Abouleish CEO\,SEKEM Community\, Egypt and others here \nThe zoom lectures are by donation to cover many of the costs of holding this conference. \nFor the full program   \nVisit the Biodynamics Sydney website  \nFor more information \nPlease contact Deborah Saffir\, Daniel Piason or Diane Watkin at 0422447092 or biodynamicssydney@gmail.com  \n  \nAbout the Centenary of Biodynamics\n2024 celebrates a centenary of the biodynamic movement.  It has been 100 years since Rudolf Steiner presented the Agriculture Lectures in Europe\, which were the start of what became known as Organic and Biodynamic Agriculture. To acknowledge the centenary\, Ueli Hurter from Switzerland\, the head of biodynamics globally\, is undertaking a speaking tour of Australia in May. Ueli Hurter visits biodynamic farms and can report on their health and success.  \nFind out more about Ueli Hurter’s Biodynamics Centenary Tour \n  \n \n  \n 
URL:https://www.anthroposophyau.org.au/event/breathing-with-the-climate-crisis-ueli-hurter-tour-nsw/
LOCATION:Rudolf Steiner House\, 307 Sussex Street\, Sydney\, NSW\, 2000
CATEGORIES:Sydney / St Johns branch
ATTACH;FMTTYPE=image/png:https://www.anthroposophyau.org.au/wp-content/uploads/Picture-1-2-e1709866956880.png
ORGANIZER;CN="Diane Watkin":MAILTO:biodynamicssydney@gmail.com
END:VEVENT
BEGIN:VEVENT
DTSTART;VALUE=DATE:20240513
DTEND;VALUE=DATE:20240515
DTSTAMP:20260423T182034
CREATED:20240318T033928Z
LAST-MODIFIED:20240504T071230Z
UID:7182-1715558400-1715731199@www.anthroposophyau.org.au
SUMMARY:The Farmer as the Priest of the Land: Ueli Hurter Tour QLD
DESCRIPTION: \nBio-Dynamics Centennial Recognition Events \nThe Biodynamics Centenary Tour\nQueensland 13th-14th May 2024 \n  \nQLD Biodynamics has organised a series of events celebrating the 100-year anniversary of Rudolf Steiner’s Agriculture lectures\, which in time became known as the birth of bio-dynamic agriculture. These events are part of a suite of events across Australia and New Zealand designed to celebrate the BioDynamics centenary \nTo acknowledge the centenary\, Ueli Hurter from Switzerland\, the head of biodynamics globally\, is undertaking a speaking tour of Australia in May. Ueli Hurter visits biodynamic farms and can report on their health and success.  \nFind out more about Ueli Hurter’s Biodynamics Centenary Tour \nQueensland Program \nThe Monday 13th and Tuesday 14th May events on the program below include two public keynote presentations by Ueli Hurter the global head of Bio-Dynamic Agriculture. \nAs can be seen in the program\, there is a mix of community and biodynamic activities. Each of these activities represents different facets of the role Biodynamics can/does play in responding to major challenges all of us face\, such as climate change. \nThese challenges will be the focus of two public presentations by Ueli Hurter on Monday 13th and Tuesday 14th May. \nDownload the QLD program  \nCost \nOpen the members of the Anthroposophical Society and the general public \nAll events attendance/participation require registration so that venues can be adequately prepared. There will be a small registration fee to cover the venue costs for the public presentations. All other events are free of charge. \nFor more information \nPlease contact Rob Birse or phone 0431 895 168 or 0480 231 171. \n  \n \n  \n  \n 
URL:https://www.anthroposophyau.org.au/event/the-farmer-as-the-priest-of-the-land-ueli-hurter-tour-qld/
LOCATION:Varied
CATEGORIES:Queensland branch
ATTACH;FMTTYPE=image/png:https://www.anthroposophyau.org.au/wp-content/uploads/Picture-1-2-e1709866956880.png
ORGANIZER;CN="Rob Birse":MAILTO:mailto:robbirse@yahoo.com.au
END:VEVENT
BEGIN:VEVENT
DTSTART;VALUE=DATE:20240515
DTEND;VALUE=DATE:20240516
DTSTAMP:20260423T182034
CREATED:20240313T014723Z
LAST-MODIFIED:20240407T073639Z
UID:7204-1715731200-1715817599@www.anthroposophyau.org.au
SUMMARY:Bio-Dynamics Centennial Celebration: Ueli Hurter Tour  SA
DESCRIPTION:Bio-Dynamics Centennial Celebration \nin South Australia May 2024\nThe Biodynamics Centenary Tour\nAdelaide Hills visit \n  \nAdelaide Hills Bio-Dynamic Group in collaboration with Ngeringa Farm and Vineyards are running a series of events to celebrate the 100 years since Rudolf Steiner gave his agriculture lectures\, which was the birth of bio-dynamic agriculture. \n2024 celebrates a centenary of the biodynamic movement.  It has been 100 years since Rudolf Steiner presented the Agriculture Lectures in Europe\, which were the start of what became known as Organic and Biodynamic Agriculture. To acknowledge the centenary\, Ueli Hurter from Switzerland\, the head of biodynamics globally\, is undertaking a speaking tour of Australia in May. Ueli Hurter visits biodynamic farms and can report on their health and success.  \nFind out more about Ueli Hurter’s Biodynamics Centenary Tour \nIn the course of the two events planned\, in the Hills\, we aim to celebrate 100 years of Bio-Dynamics (BD) in the world\, to bring those interested in or working in BD in South Australia together and to consider how BD can help the world face the challenges of time and our future. \nProgram \nDownload the South Australia Program \nDownload the poster \nWhen is it? \nWednesday 15 May 2024 \nWhere \nField Day: Ngeringa Farm and Vineyard\nMount Barker SA \nBook here for the Field Day \nEvening talk: Biodynamic Responses to the Climate Crisis – Agricultural\, Social and Planetary Healing \nBook here for the evening talk \n  \n  \nCost \nEntry fee $25 for the field day\, $10 for the evening talk. \nAll events attendance/participation require registration so that venues can be adequately prepared.  \nFor more information \nPlease contact Adelaide Hills Bio-Dynamic Group coordinator Simon Martin or phone 0425 144 655 \nAbout Ueli Hurter \nUeli Hurter has been the co-head of the Agriculture Section at the Goetheanum since 2010 and currently sits on the executive board of the International Biodynamic Association. A native of Switzerland\, he completed agricultural apprenticeships in Switzerland\, Germany and France. He has formerly served as President of the Swiss Demeter association and as Swiss spokesman to Demeter International. \nFind out more about Ueli Hurter’s Biodynamics Centenary Tour Australia-wide \n  \n \n  \n  \n 
URL:https://www.anthroposophyau.org.au/event/bio-dynamics-centennial-celebration-ueli-hurter-tour-sa/
LOCATION:Ngeringa Farm and Vineyard\, 107 Williams Rd\, Mount Barker Summit\, SA\, 5251\, Australia
CATEGORIES:SA branch
ATTACH;FMTTYPE=image/png:https://www.anthroposophyau.org.au/wp-content/uploads/Picture-1-2-e1709866956880.png
ORGANIZER;CN="Simon Martin":MAILTO:mailto:simonjlmartin@gmail.com
END:VEVENT
END:VCALENDAR