BEGIN:VCALENDAR
VERSION:2.0
PRODID:-//Anthroposophical Society in Australia - ECPv6.3.7//NONSGML v1.0//EN
CALSCALE:GREGORIAN
METHOD:PUBLISH
X-ORIGINAL-URL:https://www.anthroposophyau.org.au
X-WR-CALDESC:Events for Anthroposophical Society in Australia
REFRESH-INTERVAL;VALUE=DURATION:PT1H
X-Robots-Tag:noindex
X-PUBLISHED-TTL:PT1H
BEGIN:VTIMEZONE
TZID:Australia/Sydney
BEGIN:STANDARD
TZOFFSETFROM:+1100
TZOFFSETTO:+1000
TZNAME:AEST
DTSTART:20250405T160000
END:STANDARD
BEGIN:DAYLIGHT
TZOFFSETFROM:+1000
TZOFFSETTO:+1100
TZNAME:AEDT
DTSTART:20251004T160000
END:DAYLIGHT
END:VTIMEZONE
BEGIN:VEVENT
DTSTART;TZID=Australia/Sydney:20250912T140000
DTEND;TZID=Australia/Sydney:20251121T160000
DTSTAMP:20260420T132748
CREATED:20250821T051812Z
LAST-MODIFIED:20250821T052259Z
UID:8364-1757685600-1763740800@www.anthroposophyau.org.au
SUMMARY:The Michaelic Mystery: An Artistic Journey Exploring
DESCRIPTION:  \nThis masterclass in painting explores the nature and mission of Michael\, the Archangel of our age\, in connection with the human life and the seeds we plant for the future. . \nOur path of inquiry draws on Rudolf Steiner’s lectures on this theme\, starting with The Cycle Of The Year As A Breathing Process\, Lecture V and lectures from The Michael Mystery. \nWho is the course for? \n\nFor students of Anthroposophy who want to experience spiritual science through the arts\, knowing through doing.\n\nPainting skills and understanding of fundamental anthroposophic principles recommended to get the most out of this course. \nCost \n$280 AUD/$190 USD\nVideo recordings included in the fee\, available for private study. \nBookings \nWho is Michael ? \nMichael (pronounced Micha-el) is a higher being whose name means ‘who is like God’. He an archangel of Christian\, Judaic and Islamic religions and is often portrayed in art as slaying a dragon or Satan or with scales for weighing souls on the Day of Judgement. \nHe is said to inspire a cosmopolitan or world consciousness in us\, at a time when human beings are becoming more and more individualised and egocentric\, and our world more and more chaotic. His silent words provide a sure\, steady\, conscious pathway to bring our own spirit into harmony with World Spirit.  \nThinking as a Michaelic person has always to do with endeavouring to implant something of the spiritual into the wider cultural-scientific and social economic life of our time. \nFor more information \nContact Painted Space Studio \n  \nFeature image: Michael and the Dragon\, © Fiona Campbell 1999 \n  \nThe Michael age has dawned. Hearts begin to have thoughts. Enthusiasm no longer flows from mystical obscurity\, but from the inner clarity that thought conveys. To grasp this is to receive Michael into one’s soul. Thoughts that today seek to grasp the spirit must spring from hearts that beat for Michael as the fiery cosmic prince of thought.’  Rudolf Steiner \n 
URL:https://www.anthroposophyau.org.au/event/the-michaelic-mystery-an-artistic-journey-exploring/
LOCATION:Online
CATEGORIES:Artistic,International
ATTACH;FMTTYPE=image/jpeg:https://www.anthroposophyau.org.au/wp-content/uploads/MichealIcon-e1755753637399.jpg
ORGANIZER;CN="Painted Space Studio":MAILTO:paintedspace@gmail.com
END:VEVENT
END:VCALENDAR