BEGIN:VCALENDAR
VERSION:2.0
PRODID:-//Anthroposophical Society in Australia - ECPv6.3.7//NONSGML v1.0//EN
CALSCALE:GREGORIAN
METHOD:PUBLISH
X-ORIGINAL-URL:https://www.anthroposophyau.org.au
X-WR-CALDESC:Events for Anthroposophical Society in Australia
REFRESH-INTERVAL;VALUE=DURATION:PT1H
X-Robots-Tag:noindex
X-PUBLISHED-TTL:PT1H
BEGIN:VTIMEZONE
TZID:Australia/Sydney
BEGIN:STANDARD
TZOFFSETFROM:+1100
TZOFFSETTO:+1000
TZNAME:AEST
DTSTART:20250405T160000
END:STANDARD
BEGIN:DAYLIGHT
TZOFFSETFROM:+1000
TZOFFSETTO:+1100
TZNAME:AEDT
DTSTART:20251004T160000
END:DAYLIGHT
END:VTIMEZONE
BEGIN:VEVENT
DTSTART;TZID=Australia/Sydney:20250823T150000
DTEND;TZID=Australia/Sydney:20250823T170000
DTSTAMP:20260424T173154
CREATED:20250729T060301Z
LAST-MODIFIED:20250729T060402Z
UID:8309-1755961200-1755968400@www.anthroposophyau.org.au
SUMMARY:Annual Erwin Berney Oration Fundraiser
DESCRIPTION: \n‘Beyond 100 years\, what is being asked of us now?’\nwith General Secretary Jane Bradshaw \nSaturday August 23\, 2025\n3.00 pm – 5.30 pm AEST \n  \nAll the gifts of Spiritual Science brought by Rudolf Steiner have lit our pathways of consciousness and enlivened our initiatives. Our biographies are shaped by this. \nAs members of the Anthroposophical Society\, are we awake to the call of the time? \n\n\n\nDownload the program \nWhen \n3.00. – 4.00 pm AEST: Presentation by Jane Bradshaw\n4.00 pm AEST: Q&A\n4.30pm – 5.30 pm AEST:.Refreshments \n\n\n\nWhere \nRudolf Steiner House\n307 Sussex St\nSydney 2000 NSW \nThis annual fundraiser event will also be accessible via Zoom at Rudolf Steiner House. \nSuggested donation $40 (other financial options also available on the webpage). Donations possible for those who cannot attend via the Eventbrite link below or contact us to make a direct payment. \n  \n Bookings \nFor more information \nPlease contact Jude Samson  \n  \n  \nFeature image: painting about Michael and the dragon by Liane Collot d’Herbois
URL:https://www.anthroposophyau.org.au/event/annual-erwin-berney-oration-fundraiser/
LOCATION:Rudolf Steiner House\, 307 Sussex Street\, Sydney\, NSW\, 2000
CATEGORIES:Sydney / St Johns branch
ATTACH;FMTTYPE=image/jpeg:https://www.anthroposophyau.org.au/wp-content/uploads/DHerboisMichael-e1753769027568.jpg
ORGANIZER;CN="Jude Samson":MAILTO:msamson@email.org.au
END:VEVENT
END:VCALENDAR