BEGIN:VCALENDAR
VERSION:2.0
PRODID:-//Anthroposophical Society in Australia - ECPv6.3.7//NONSGML v1.0//EN
CALSCALE:GREGORIAN
METHOD:PUBLISH
X-WR-CALNAME:Anthroposophical Society in Australia
X-ORIGINAL-URL:https://www.anthroposophyau.org.au
X-WR-CALDESC:Events for Anthroposophical Society in Australia
REFRESH-INTERVAL;VALUE=DURATION:PT1H
X-Robots-Tag:noindex
X-PUBLISHED-TTL:PT1H
BEGIN:VTIMEZONE
TZID:Australia/Sydney
BEGIN:STANDARD
TZOFFSETFROM:+1100
TZOFFSETTO:+1000
TZNAME:AEST
DTSTART:20230401T160000
END:STANDARD
BEGIN:DAYLIGHT
TZOFFSETFROM:+1000
TZOFFSETTO:+1100
TZNAME:AEDT
DTSTART:20230930T160000
END:DAYLIGHT
END:VTIMEZONE
BEGIN:VEVENT
DTSTART;VALUE=DATE:20231111
DTEND;VALUE=DATE:20231114
DTSTAMP:20260424T140129
CREATED:20231002T233641Z
LAST-MODIFIED:20231002T233641Z
UID:6637-1699660800-1699919999@www.anthroposophyau.org.au
SUMMARY:Supportive therapies
DESCRIPTION:Taruna College 11-13 November 2023\n\n\n\nAs a nurse\, therapist or caregiver\, we invite you to register for this three day workshop focussed on practical\, effective care and intervention strategies.  Come and be a part of widening the circle of those offering supportive  therapies in the community. Through our learning process\, healing plants  and external treatments will become familiar to you\, preparing you to assess  and safely work with the therapies based on a sound rationale.  In addition we introduce  \n\n\n\n\n\nbiography work\n the inner path of the nurse or therapist\, and \ncasework to help with individualised care across various situations and   settings.\n\nDownload the flyer \n\n\n\n\nCost \n$550 all materials\, refreshments and lunch included Tutors: Deborah Bednarek RN MN ANS and Michelle Vette RN MN ANS \n\n\n\n\nRegistration \nRegistration via the Taruna website or ring 068777174  
URL:https://www.anthroposophyau.org.au/event/supportive-therapies/
LOCATION:Taruna College\, 33 Te Mata Peak Road\, Havelock North\, New Zealand
CATEGORIES:International
ATTACH;FMTTYPE=image/png:https://www.anthroposophyau.org.au/wp-content/uploads/Screenshot-2023-10-03-at-10.35.12-am-e1696289782581.png
END:VEVENT
END:VCALENDAR