BEGIN:VCALENDAR
VERSION:2.0
PRODID:-//Anthroposophical Society in Australia - ECPv6.3.7//NONSGML v1.0//EN
CALSCALE:GREGORIAN
METHOD:PUBLISH
X-ORIGINAL-URL:https://www.anthroposophyau.org.au
X-WR-CALDESC:Events for Anthroposophical Society in Australia
REFRESH-INTERVAL;VALUE=DURATION:PT1H
X-Robots-Tag:noindex
X-PUBLISHED-TTL:PT1H
BEGIN:VTIMEZONE
TZID:Australia/Sydney
BEGIN:STANDARD
TZOFFSETFROM:+1100
TZOFFSETTO:+1000
TZNAME:AEST
DTSTART:20230401T160000
END:STANDARD
BEGIN:DAYLIGHT
TZOFFSETFROM:+1000
TZOFFSETTO:+1100
TZNAME:AEDT
DTSTART:20230930T160000
END:DAYLIGHT
END:VTIMEZONE
BEGIN:VEVENT
DTSTART;TZID=Australia/Sydney:20230527T100000
DTEND;TZID=Australia/Sydney:20230527T133000
DTSTAMP:20260423T031540
CREATED:20230504T013600Z
LAST-MODIFIED:20230504T013728Z
UID:6218-1685181600-1685194200@www.anthroposophyau.org.au
SUMMARY:Whitsun Festival and AGM of the Vic Brancn
DESCRIPTION:Invitation to members and friends of the Anthroposophical Society Victorian Branch\n  \nYou are warmly invited to attend the 2023 Whitsun Festival and the Annual General Meeting of the Victorian Branch of the Anthroposophical Society on Saturday 27th May 2023\, 10am—1.30pm at Aurora Australis\, 2 Union Street\, KEW. \nProgram \nThe program of the day will include;  \n\n10 am—11.30 Whitsun Festival\nStarting with Eurythmy presentation\, followed by a lecture by Lukas Ryan\, then Eurythmy or Speech presentation to conclude around 11.30. \n11.30—12 pm Coffee Break \n12 pm – 1.30 pm Annual General Meeting of the Victorian Branch. We will keep the business part short and leave some time for member discussion. \n\nSecretary’s report \nYou can read the Secretary’s report on the activities of the Vic Branch over the past year here.  \nFor more information \nPlease contact Branch Secretary Birgith Lugosi for AGM documents. 
URL:https://www.anthroposophyau.org.au/event/whitsun-festival-and-agm-of-the-vic-brancn/
LOCATION:Aurora Australis\, 2 Union Street\, Kew\, Vic\, 3101\, Australia
CATEGORIES:Victoria branch
ORGANIZER;CN="Birgith Lugosi":MAILTO:birgith.lugosi@gmail.com
END:VEVENT
END:VCALENDAR