BEGIN:VCALENDAR
VERSION:2.0
PRODID:-//Anthroposophical Society in Australia - ECPv6.3.7//NONSGML v1.0//EN
CALSCALE:GREGORIAN
METHOD:PUBLISH
X-WR-CALNAME:Anthroposophical Society in Australia
X-ORIGINAL-URL:https://www.anthroposophyau.org.au
X-WR-CALDESC:Events for Anthroposophical Society in Australia
REFRESH-INTERVAL;VALUE=DURATION:PT1H
X-Robots-Tag:noindex
X-PUBLISHED-TTL:PT1H
BEGIN:VTIMEZONE
TZID:Australia/Sydney
BEGIN:STANDARD
TZOFFSETFROM:+1100
TZOFFSETTO:+1000
TZNAME:AEST
DTSTART:20220402T160000
END:STANDARD
BEGIN:DAYLIGHT
TZOFFSETFROM:+1000
TZOFFSETTO:+1100
TZNAME:AEDT
DTSTART:20221001T160000
END:DAYLIGHT
END:VTIMEZONE
BEGIN:VEVENT
DTSTART;VALUE=DATE:20221112
DTEND;VALUE=DATE:20221114
DTSTAMP:20260420T234014
CREATED:20221024T063632Z
LAST-MODIFIED:20221024T063632Z
UID:5582-1668211200-1668383999@www.anthroposophyau.org.au
SUMMARY:In the Hut of a Thousand Suns
DESCRIPTION:  \nExploring the Nature Of ‘Evil’ Through Folktales\, Storytelling\, Creative Activities & Deep Conversation\n  \nWe’ve never lived in a more profound paradox: our destruction of the Earth and ourselves through climate collapse\, the escalation of A.I.\, the increasing loss of human rights\, while simultaneously facing unprecedented opportunities to develop our consciousness\, understanding of interconnectedness\, and ethical individuality. \n\nParadox is ripe with possibilities; folktales are riddled with paradox\, refuse ‘standard rules of behaviour’ and put forward dilemma\, questions\, and contradictions. They force us to develop moral-ethical imagination\, our ability to think in new\, unexpected ways\, see parallels and relationships which hadn’t existed before\, and become at least dimly aware of the complexity of our inner-selves (Spaulding).\n\nStorytelling has always been something we share\, and folktales are part of our human biology. When we hear a story\, as a couple\, family\, or community\, our brains harmonise. Through creative images and inspiration provided by stories\, we get inside ideas together – like an orchestra\, synchronising individual skills and instruments to interpret the idea of the symphony to create music in which everyone a has a part. Folktales offer innovative strategies for survival\, that aren’t unrealistic dreams\, but observations and aspirations for the world we live in. And our insistence on belonging\, community\, and human connection is one of the greatest acts of courage and resistance in the face of oppression (O’Donohue).\n\nWhat can you expect from this seminar? Storytelling that initiates both community and individuality. Folktales that reveal how and why loneliness and isolation attract Evil\, why unused creative power\, transgression and disrespect lack awareness and carry the potential of self-destruction. You’ll experience the power of Story and storytelling\, gain an understanding of the importance of opening and closing story-space\, access tools that craft the telling of tales and build valuable insight into the theme and the Fifth Secret (Steiner): Evil exists so we wake up\, transform it and move toward Spirit-soul-consciousness. \nHow much does it cost?  \nStandard $350\nEarly Bird Singles $290\nCouples p.p. $250\nTeams [p.p.] $225 \nWhen is it on? \n12/13 November; 19/20 November  \nVenues \nLaunceston Venue: Tamar Valley Steiner Early Childhood 41 French Str\, Launceston \nHobart (Huntingfield) Venue: Tarremah Steiner School\, ‘Silvereye Room’\, 27 Nautilus Grove\, Huntingfield 7055\n \nBookings \nBook here! \n  \nFor more information \nContact Iris Curteis  mob: 0487 719 476 \nAbout Iris Curteis \nI am a Storyteller and Social Artist; I encountered Anthroposophy as an 18-year-old\, and met wonderful\, inspiring teachers in Europe and Australia. My background includes studies in visual art\, storytelling\, speech formation\, and dramatic art (Europe)\, B.A. and B.A. hon. in creative writing\, and a Ph.D. on storytelling and community building (Australia). This workshop is ‘experiential’\, interactive and practical. It offers space for deep conversations about how and why storytelling empowers our imagination\, and the many ways creativity and creative thinking encourage us to appreciate our lives as works of art.
URL:https://www.anthroposophyau.org.au/event/in-the-hut-of-a-thousand-suns/
LOCATION:Tarremah Steiner School\, Kingston\, Tasmania\, 27 Nautilus Grove\, Huntingfield\, TAS\, 7055\, Australia
CATEGORIES:Tasmania branch
ATTACH;FMTTYPE=image/jpeg:https://www.anthroposophyau.org.au/wp-content/uploads/In-the-Hut-of-a-Thousand-Suns-e1666592862175.jpg
ORGANIZER;CN="Iris Curteis":MAILTO:an_lomall@bigpond.com
END:VEVENT
BEGIN:VEVENT
DTSTART;VALUE=DATE:20221126
DTEND;VALUE=DATE:20221128
DTSTAMP:20260420T234014
CREATED:20221024T065159Z
LAST-MODIFIED:20221109T222908Z
UID:5587-1669420800-1669593599@www.anthroposophyau.org.au
SUMMARY:Three-folding – Spiritual Freedom\, Social Equality Associative Economics
DESCRIPTION: \nThis is an interactive seminar in which each day is carefully structured around storytelling\, collaborative activities\, and creative presentations combined with deep conversation \nTell me more \nThis Threefolding seminar is an opportunity to explore\, re-view and question how human nature might be shaped by a viable\, healthy social organism through the right relationship of our cultural\, political and economic life. Central to this picture is an acknowledgement that any integrated system of social life must also foster the development of individual potential to the fullest degree compatible with the freedom and well-being of others. \nAldous Huxley wrote in 1946 that ‘the outcome of centralisation of economic and political power is the progressive loss by the masses of their civil liberties\, their personal independence and their opportunities for self-government’. This is more and more a feature of contemporary life where big tech\, big Pharma\, big banks and pervasive mass media dictate our reality.  \nSo how might we co-exist in ways that extend and illuminate our highest good amidst social arrangements that enable us to have the right thoughts on matters of social concern? And if so\, what kind of thoughts must exist so that the right social arrangements can arise? \nWhen is it on? \n9:00 – 4:00 AEDT\, 26/27 November 2022. \nVenues \n177 Waterworks Rd\, Dynnyrne \nBookings and Costs \nBook here! \n  \nFor more information \nContact Iris Curteis  mob: 0487 719 476 or download the flyer \n 
URL:https://www.anthroposophyau.org.au/event/three-folding-spiritual-freedom-social-equality-associative-economics/
LOCATION:Roseheath\, 177 Waterworks Road\, Dynnyrne\, TAS\, 7005\, Australia
CATEGORIES:Tasmania branch
ATTACH;FMTTYPE=image/jpeg:https://www.anthroposophyau.org.au/wp-content/uploads/Untitled-design-2-e1668032938329.jpg
ORGANIZER;CN="Iris Curteis":MAILTO:an_lomall@bigpond.com
END:VEVENT
END:VCALENDAR