BEGIN:VCALENDAR
VERSION:2.0
PRODID:-//Anthroposophical Society in Australia - ECPv6.3.7//NONSGML v1.0//EN
CALSCALE:GREGORIAN
METHOD:PUBLISH
X-ORIGINAL-URL:https://www.anthroposophyau.org.au
X-WR-CALDESC:Events for Anthroposophical Society in Australia
REFRESH-INTERVAL;VALUE=DURATION:PT1H
X-Robots-Tag:noindex
X-PUBLISHED-TTL:PT1H
BEGIN:VTIMEZONE
TZID:Australia/Sydney
BEGIN:STANDARD
TZOFFSETFROM:+1100
TZOFFSETTO:+1000
TZNAME:AEST
DTSTART:20260404T160000
END:STANDARD
BEGIN:DAYLIGHT
TZOFFSETFROM:+1000
TZOFFSETTO:+1100
TZNAME:AEDT
DTSTART:20261003T160000
END:DAYLIGHT
END:VTIMEZONE
BEGIN:VEVENT
DTSTART;VALUE=DATE:20260504
DTEND;VALUE=DATE:20260529
DTSTAMP:20260424T215423
CREATED:20260330T061106Z
LAST-MODIFIED:20260330T061417Z
UID:8856-1777852800-1780012799@www.anthroposophyau.org.au
SUMMARY:Artists' Call Out: From The Threshold
DESCRIPTION: An Invitation for Artists to take part in May in a forthcoming exhibition in Rudolf Steiner House\, Sydney.  \n \nFeature image: Darkness and Light (detail) by Käthe Kollwitz
URL:https://www.anthroposophyau.org.au/event/artists-call-out-from-the-threshold/
LOCATION:Rudolf Steiner Book Centre\, 307 Sussex ST\, Sydney\, NSW\, 2001\, Australia
CATEGORIES:Sydney / St Johns branch
ATTACH;FMTTYPE=image/jpeg:https://www.anthroposophyau.org.au/wp-content/uploads/KollwitzDrawing-e1774850935860.jpg
ORGANIZER;CN="Brigitta Gallaher":MAILTO:rshartscommittee@gmail.com
END:VEVENT
BEGIN:VEVENT
DTSTART;TZID=Australia/Sydney:20260524T100000
DTEND;TZID=Australia/Sydney:20260524T150000
DTSTAMP:20260424T215423
CREATED:20260417T045326Z
LAST-MODIFIED:20260417T045326Z
UID:8880-1779616800-1779634800@www.anthroposophyau.org.au
SUMMARY:Dramatherapy and Emergency Pedagogy Training
DESCRIPTION: 
URL:https://www.anthroposophyau.org.au/event/dramatherapy-and-emergency-pedagogy-training/
LOCATION:Rudolf Steiner Book Centre\, 307 Sussex ST\, Sydney\, NSW\, 2001\, Australia
CATEGORIES:Sydney / St Johns branch
ATTACH;FMTTYPE=image/jpeg:https://www.anthroposophyau.org.au/wp-content/uploads/EmergencyPedagogyflyer-e1776401367187.jpg
END:VEVENT
END:VCALENDAR