BEGIN:VCALENDAR
VERSION:2.0
PRODID:-//Anthroposophical Society in Australia - ECPv6.3.7//NONSGML v1.0//EN
CALSCALE:GREGORIAN
METHOD:PUBLISH
X-WR-CALNAME:Anthroposophical Society in Australia
X-ORIGINAL-URL:https://www.anthroposophyau.org.au
X-WR-CALDESC:Events for Anthroposophical Society in Australia
REFRESH-INTERVAL;VALUE=DURATION:PT1H
X-Robots-Tag:noindex
X-PUBLISHED-TTL:PT1H
BEGIN:VTIMEZONE
TZID:Australia/Sydney
BEGIN:STANDARD
TZOFFSETFROM:+1100
TZOFFSETTO:+1000
TZNAME:AEST
DTSTART:20250405T160000
END:STANDARD
BEGIN:DAYLIGHT
TZOFFSETFROM:+1000
TZOFFSETTO:+1100
TZNAME:AEDT
DTSTART:20251004T160000
END:DAYLIGHT
TZID:Australia/Brisbane
BEGIN:STANDARD
TZOFFSETFROM:+1000
TZOFFSETTO:+1000
TZNAME:AEST
DTSTART:20250101T000000
END:STANDARD
END:VTIMEZONE
BEGIN:VEVENT
DTSTART;TZID=Australia/Sydney:20251107T180000
DTEND;TZID=Australia/Sydney:20251109T110000
DTSTAMP:20260425T110346
CREATED:20250625T044932Z
LAST-MODIFIED:20250625T050057Z
UID:8251-1762538400-1762686000@www.anthroposophyau.org.au
SUMMARY:The Life Of Gesture Part 2
DESCRIPTION:  \nHeart Fire Centre For Speech And Drama  \npresents \n  \n \n\n  \nBookings \n\n  \nFeature image: courtesy of Heart Fire Centre \n\n 
URL:https://www.anthroposophyau.org.au/event/the-life-of-gesture-part-1-copy/
LOCATION:Samford Valley Steiner School\, 5 Narrawa Drive\, Wights Mountain\, Qld\, 4520
CATEGORIES:Queensland branch
ATTACH;FMTTYPE=image/png:https://www.anthroposophyau.org.au/wp-content/uploads/Picture-1-1-e1750827253561.png
END:VEVENT
BEGIN:VEVENT
DTSTART;TZID=Australia/Brisbane:20251116T120000
DTEND;TZID=Australia/Brisbane:20251116T160000
DTSTAMP:20260425T110346
CREATED:20251014T054214Z
LAST-MODIFIED:20251014T080709Z
UID:8442-1763294400-1763308800@www.anthroposophyau.org.au
SUMMARY:A Conversation Circle with Jane Bradshaw and Michelle Vette
DESCRIPTION: \nSalutations to one and all!\n \n\nMembers and friends of the Anthroposophical Society are invited to lunch and a conversation circle with Jane Bradshaw (General Secretary of the ASinA) and Michelle Vette (General Secretary ASinNZ) on 16th November 2025 at Wight’s Mountain\, Samford Valley\, QLD. \n\n\nConversation Circle\n\n\nTheme: Beyond 100 years … what is now being asked of us?  Are we awake to the call of the time? \nEveryone with an interest in Anthroposophy is welcome to come along.  \n\nDownload the flyer\n \n\nWhen \n12.00 pm AEST on Sunday 16th November 2025 \nProgram\nLunch will be at noon\, then at 1pm the Conversation Circle.   \nPlease bring food to share;  and let Susan Margaret know if you plan to come. And feel free to share this invitation. \nWhere \nPacifica Eurythmy Studio\,\nNo. 8 Narrawa Road\,\nWights Mountain\, \nSamford Valley\, QLD \nMore information \nJane and Michelle will be in Noosa Heads from 10-15th November\, Brisbane on 16th November\,  and travelling south on 17th November.  If you would like to make personal contact with Jane please email her. \nIf you have any questions about the conversation circle\, please email Susan Margaret for clarification. \n\n \n 
URL:https://www.anthroposophyau.org.au/event/8442/
LOCATION:8 Narrawa Rd\, Wights Mountain\, Brisbane\, QLD\, 8 Narrawa Rd\, Wight's Mountain\, QLD\, 4520\, Australia
CATEGORIES:Queensland branch
ATTACH;FMTTYPE=image/jpeg:https://www.anthroposophyau.org.au/wp-content/uploads/JaneBradshawAboutUs-e1760420612363.jpg
ORGANIZER;CN="Jane Bradshaw":MAILTO:generalsecretary.asina@gmail.com
END:VEVENT
END:VCALENDAR