BEGIN:VCALENDAR
VERSION:2.0
PRODID:-//Anthroposophical Society in Australia - ECPv6.3.7//NONSGML v1.0//EN
CALSCALE:GREGORIAN
METHOD:PUBLISH
X-WR-CALNAME:Anthroposophical Society in Australia
X-ORIGINAL-URL:https://www.anthroposophyau.org.au
X-WR-CALDESC:Events for Anthroposophical Society in Australia
REFRESH-INTERVAL;VALUE=DURATION:PT1H
X-Robots-Tag:noindex
X-PUBLISHED-TTL:PT1H
BEGIN:VTIMEZONE
TZID:Australia/Sydney
BEGIN:STANDARD
TZOFFSETFROM:+1100
TZOFFSETTO:+1000
TZNAME:AEST
DTSTART:20190406T160000
END:STANDARD
BEGIN:DAYLIGHT
TZOFFSETFROM:+1000
TZOFFSETTO:+1100
TZNAME:AEDT
DTSTART:20191005T160000
END:DAYLIGHT
END:VTIMEZONE
BEGIN:VEVENT
DTSTART;TZID=Australia/Sydney:20190908T140000
DTEND;TZID=Australia/Sydney:20190908T160000
DTSTAMP:20260420T174509
CREATED:20190902T052940Z
LAST-MODIFIED:20190902T054416Z
UID:1884-1567951200-1567958400@www.anthroposophyau.org.au
SUMMARY:Social Initiatives Forum with Joan Sleigh
DESCRIPTION:Joan Sleigh\, member of the Executive Council of the General Anthroposophical Council\, will speak and discuss the work of the Social Initiatives Forum.  
URL:https://www.anthroposophyau.org.au/event/social-initiatives-forum-with-joan-sleigh/
LOCATION:Christian Community Sydney\, 8 Montague Street\, Balmain\, Sydney\, NSW\, Australia
CATEGORIES:NSW branch,Sydney / St Johns branch
END:VEVENT
END:VCALENDAR