BEGIN:VCALENDAR
VERSION:2.0
PRODID:-//Anthroposophical Society in Australia - ECPv6.3.7//NONSGML v1.0//EN
CALSCALE:GREGORIAN
METHOD:PUBLISH
X-WR-CALNAME:Anthroposophical Society in Australia
X-ORIGINAL-URL:https://www.anthroposophyau.org.au
X-WR-CALDESC:Events for Anthroposophical Society in Australia
REFRESH-INTERVAL;VALUE=DURATION:PT1H
X-Robots-Tag:noindex
X-PUBLISHED-TTL:PT1H
BEGIN:VTIMEZONE
TZID:Australia/Sydney
BEGIN:STANDARD
TZOFFSETFROM:+1100
TZOFFSETTO:+1000
TZNAME:AEST
DTSTART:20260404T160000
END:STANDARD
BEGIN:DAYLIGHT
TZOFFSETFROM:+1000
TZOFFSETTO:+1100
TZNAME:AEDT
DTSTART:20261003T160000
END:DAYLIGHT
END:VTIMEZONE
BEGIN:VEVENT
DTSTART;TZID=Australia/Sydney:20260313T200000
DTEND;TZID=Australia/Sydney:20260314T160000
DTSTAMP:20260422T025903
CREATED:20260224T011242Z
LAST-MODIFIED:20260224T011429Z
UID:8795-1773432000-1773504000@www.anthroposophyau.org.au
SUMMARY:The Stars\, The Pyramids & Ancient Egypt Relation of the Stars to Places on Earth
DESCRIPTION:  \n\n\n\n\n 
URL:https://www.anthroposophyau.org.au/event/the-stars-the-pyramids-ancient-egypt-relation-of-the-stars-to-places-on-earth/
LOCATION:Canberra Christian Community\, 7 Holtze Close\, Hackett\, ACT\, 2602\, Australia
CATEGORIES:Canberra branch
ATTACH;FMTTYPE=image/jpeg:https://www.anthroposophyau.org.au/wp-content/uploads/StarMapEgypt-e1771895661422.jpg
END:VEVENT
END:VCALENDAR