BEGIN:VCALENDAR
VERSION:2.0
PRODID:-//Anthroposophical Society in Australia - ECPv6.3.7//NONSGML v1.0//EN
CALSCALE:GREGORIAN
METHOD:PUBLISH
X-ORIGINAL-URL:https://www.anthroposophyau.org.au
X-WR-CALDESC:Events for Anthroposophical Society in Australia
REFRESH-INTERVAL;VALUE=DURATION:PT1H
X-Robots-Tag:noindex
X-PUBLISHED-TTL:PT1H
BEGIN:VTIMEZONE
TZID:Australia/Sydney
BEGIN:STANDARD
TZOFFSETFROM:+1100
TZOFFSETTO:+1000
TZNAME:AEST
DTSTART:20260404T160000
END:STANDARD
BEGIN:DAYLIGHT
TZOFFSETFROM:+1000
TZOFFSETTO:+1100
TZNAME:AEDT
DTSTART:20261003T160000
END:DAYLIGHT
END:VTIMEZONE
BEGIN:VEVENT
DTSTART;TZID=Australia/Sydney:20260228T150000
DTEND;TZID=Australia/Sydney:20260425T170000
DTSTAMP:20260420T095927
CREATED:20260116T035058Z
LAST-MODIFIED:20260116T055644Z
UID:8688-1772290800-1777136400@www.anthroposophyau.org.au
SUMMARY:The Essence of Anthroposophic Art: Veiling the Colours
DESCRIPTION:A Painted Space Studio workshop\n  \nIf I delve deeper into the characters of the different colours\, they show me their dynamic qualities. Out my experience\, I can then let the colours guide me. \n  \nBeppe Assenza \n  \nThis course introduces the iconic veil painting technique so closely identified with Rudolf Steiner’s artistic approach. \nWe delve into the language of colour using transparent surfaces of liquid colour in free compositions inspired by Beppe Assenza’s playful but meditative approach to painting. \nThis is the preferred technique of any anthroposophic painting training. It is not an easy skill to develop but very satisfying to master. \nRudolf Steiner developed this technique as a way of of interfacing with the spirit through painting.  \nYou can read more about the anthroposophic approach and why we prefer watercolour over acrylics and oils in this short article. \nWho is it for? \n\nFor anyone interested in learning the veiling (wet-on-dry) watercolour technique.\nFor artists\, art therapists and Steiner (Waldorf) teachers who want to deepen their understanding of colour (PD certificates available).\n\nWhen is it? \n3.00 pm-5.00 pm AEDT\, Saturdays\, 28 February-25 April 2026\nFive fortnightly sessions plus video recording \nCost \n$240 AUD\n$250 for PD certificate (75% attendance and participation required)\nVideo recordings included in the fee\, available for private study.\nThe payment options\, Zoom link\, and a list of materials will be sent to you after booking. \n\nBOOK HERE\n \n\n  \nFor more information \nThis course is a core component of Art as a Path of Schooling for the Soul. It is preceded by the introductory workshop\, Working with Colour\, Out of Colour. Together\, they provide a sound foundation in the anthroposophic (Steiner) approach to colour and painting. \n  \nContact \n  \nFeature image: New Life Emerges © Fiona Campbell 2010\n 
URL:https://www.anthroposophyau.org.au/event/the-essence-of-anthroposophic-art-veiling-the-colours/
LOCATION:Zoom online events\, Australia
CATEGORIES:Artistic,Australia,International
ATTACH;FMTTYPE=image/jpeg:https://www.anthroposophyau.org.au/wp-content/uploads/NewLife-copy-e1768535176867.jpg
ORGANIZER;CN="Painted Space Studio":MAILTO:paintedspace@gmail.com
END:VEVENT
END:VCALENDAR