BEGIN:VCALENDAR
VERSION:2.0
PRODID:-//Anthroposophical Society in Australia - ECPv6.3.7//NONSGML v1.0//EN
CALSCALE:GREGORIAN
METHOD:PUBLISH
X-WR-CALNAME:Anthroposophical Society in Australia
X-ORIGINAL-URL:https://www.anthroposophyau.org.au
X-WR-CALDESC:Events for Anthroposophical Society in Australia
REFRESH-INTERVAL;VALUE=DURATION:PT1H
X-Robots-Tag:noindex
X-PUBLISHED-TTL:PT1H
BEGIN:VTIMEZONE
TZID:Australia/Sydney
BEGIN:STANDARD
TZOFFSETFROM:+1100
TZOFFSETTO:+1000
TZNAME:AEST
DTSTART:20220402T160000
END:STANDARD
BEGIN:DAYLIGHT
TZOFFSETFROM:+1000
TZOFFSETTO:+1100
TZNAME:AEDT
DTSTART:20221001T160000
END:DAYLIGHT
END:VTIMEZONE
BEGIN:VEVENT
DTSTART;TZID=Australia/Sydney:20221018T180000
DTEND;TZID=Australia/Sydney:20221231T233000
DTSTAMP:20260419T224834
CREATED:20221006T035230Z
LAST-MODIFIED:20221027T024457Z
UID:5540-1666116000-1672529400@www.anthroposophyau.org.au
SUMMARY:From the Burning - What lives now?
DESCRIPTION:  \n100 years since the physical destruction of the first Goetheanum \nA series of lectures\, artistic presentations\, exhibitions and workshops commemorating the centenary of the burning of the first Goetheanum in Dornach on New Year’s Eve\, 1922. \nDates \n\n\n\n\nLectures: 7pm Tuesday evenings\, 18 October – 20 December 2022\nExhibitions: Opening hours of Rudolf Steiner Book Centre\nWorkshop: Saturday 12 November\nPanel: 7.30pm Thursday 17 November\nNew Year’s Eve vigil: 31 December \nProgram \nYou can download the full program here \n\n\n\n\nLocation \nSydney Rudolf Steiner House\n307 Sussex Street \nSydney Australia \nPlease note: most lectures will be live streamed\, but not all. Check the booking page for details \nBooking \nBook here \nFor more information \nPlease contact Annet van Kesteran  or the Arts Impulse Group \n  \nThis program is sponsored by the St John’s Group board\, Sydney Branch and the ASinA \n  \n\n\n\n\n\n  \nI would enkindle all human beings\nFrom out of the Spirit of the cosmos\nTo become a flame\nAnd unfold in fire\nThe very nature of their being. \n\nVerse excerpt from Truth-wrought-words\, Rudolf Steiner 1925\n \n\n\n  \nFeature image: The only remaining sketch of the burning Goetheanum\, Helmut Lauers © Verlag am Goetheanum\, 1993. \n 
URL:https://www.anthroposophyau.org.au/event/from-the-burning-what-lives-now/
LOCATION:Rudolf Steiner House\, 307 Sussex Street\, Sydney\, NSW\, 2000
CATEGORIES:Australia,Sydney / St Johns branch
ATTACH;FMTTYPE=image/jpeg:https://www.anthroposophyau.org.au/wp-content/uploads/Burningimage-e1666838691972.jpg
ORGANIZER;CN="Annet Van Kesteren":MAILTO:annet.vankesteren@gmail.com
END:VEVENT
BEGIN:VEVENT
DTSTART;TZID=Australia/Sydney:20221126T160000
DTEND;TZID=Australia/Sydney:20221126T173000
DTSTAMP:20260419T224834
CREATED:20221024T053005Z
LAST-MODIFIED:20221109T223449Z
UID:5577-1669478400-1669483800@www.anthroposophyau.org.au
SUMMARY:The IAO Motif and the Foundation Stone Meditation
DESCRIPTION:The IAO:  the Cosmic Image of the Human Being\nand the Foundation Stone Meditation\nThe final webinar of 3 practice-based workshops exploring key challenges of 5th epoch\, 6th epoch \nand our cosmic future as represented in the ceiling motifs of the first Goetheanum \n  \nPresenter: Fiona Campbell  \nThis is the 3rd and final webinar in the The Great Luciferic/Ahrimanic face-off exploring the ceiling motifs of the first Goetheanum\, as a transformative picture of the spiritual history of humanity. They raise questions about their relevance to today and how they could guide our future development. Each motif embodies a soul stage of human development as we traverse our starry and earthly path as individuals and as humanity as a whole. \nTell me more \nThe tragedy of dualism in our souls\, and how it manifests has been the leitmotif of this series. In this final workshop\, we contemplate how the path from the IOA as cosmic word resounding from the beginning of time to the IAO\, the cosmic image of the human being\, is a picture and a guide as to how to grapple with our innately dualistic natures. \nIn this presentation\, we explore these theme through discussion\, contemplation and a little sketching of the motif.  \nWho are the webinars for? \nFor anyone interested in Steiner’s approach to the spiritual evolution of humanity. \nBut you don’t have to have attended previous webinars to enjoy the presentation and discussion.  \nWhen is it on? \nSaturday afternoon 4.00-5.30pm AEDT\nWebinar workshops:  26 November \nEach session will be recorded and a video of the event will be available post-webinar.\nA list of suggested drawing materials and background readings is also included in the cost.  \nHow much does it cost?  \nOnline series:  $35  | Concessions available on request – please contact Fiona.\nVideo recording included in the cost \nWhere do I book?  \nBook here! \nAfter booking\, I will send you a confirmation email containing the zoom link to join the meeting.  \nThen download the payment details and materials list.  \nFor more information \nPlease contact Fiona Campbell  \n  \nBackground reading \nThe Foundation Stone Meditation GA 260 \nBackground notes \nAbout the first Goetheanum \n2022 marks the centenary of the burning of the first Goetheanum on New Year’s Eve in 1922/23. As part of the 100th anniversary of the fire\, artists and members of the Anthroposophical Society around the world have been working with the forms and motifs of the 1st Goetheanum. These three webinars are part of this world-wide activity. \nFor the ceiling of the first Goetheanum\, Steiner gave a series of ‘epoch’ motifs to the artists – 12 sketches for the large cupola of the 1st Goetheanum and 7 Sketches for the small cupola. These motifs map the spiritual history of humanity and were intended to support a training in karmic vision through Art. \n. \nPhoto credits: from The Language of Color in the First Goetheanum by Hilde Raske  \n  \n\n‘In the beginning was the Word’ \n“Let us make human beings in our image\, to be like us’
URL:https://www.anthroposophyau.org.au/event/5577/
LOCATION:Online
CATEGORIES:Artistic,Australia,International
ATTACH;FMTTYPE=image/jpeg:https://www.anthroposophyau.org.au/wp-content/uploads/IAOWagner-1-e1668033278879.jpg
ORGANIZER;CN="Fiona Campbell":MAILTO:paintedspace@gmail.com
END:VEVENT
END:VCALENDAR