BEGIN:VCALENDAR
VERSION:2.0
PRODID:-//Anthroposophical Society in Australia - ECPv6.3.7//NONSGML v1.0//EN
CALSCALE:GREGORIAN
METHOD:PUBLISH
X-ORIGINAL-URL:https://www.anthroposophyau.org.au
X-WR-CALDESC:Events for Anthroposophical Society in Australia
REFRESH-INTERVAL;VALUE=DURATION:PT1H
X-Robots-Tag:noindex
X-PUBLISHED-TTL:PT1H
BEGIN:VTIMEZONE
TZID:Australia/Sydney
BEGIN:STANDARD
TZOFFSETFROM:+1100
TZOFFSETTO:+1000
TZNAME:AEST
DTSTART:20220402T160000
END:STANDARD
BEGIN:DAYLIGHT
TZOFFSETFROM:+1000
TZOFFSETTO:+1100
TZNAME:AEDT
DTSTART:20221001T160000
END:DAYLIGHT
END:VTIMEZONE
BEGIN:VEVENT
DTSTART;TZID=Australia/Sydney:20220825T080000
DTEND;TZID=Australia/Sydney:20220925T170000
DTSTAMP:20260420T015509
CREATED:20220726T060854Z
LAST-MODIFIED:20220728T102254Z
UID:5267-1661414400-1664125200@www.anthroposophyau.org.au
SUMMARY:Tranformative Art & Architecture (TAA) Module 3
DESCRIPTION:The Human Being as Measure of All Things\nArchitectural Form and the Evolution of Consciousness \n  \nA Transformative Art & Architecture (TAA) seminar  \nAn online 6-day  seminar over 3 alternating weekends and 4 midweek evenings\, starting on Saturday 27th August 2022\,  9.45 am \nWhat is it about? \nTo be able to objectively evaluate architectural form we must base our judgements on an objective set of criteria. From a spiritual perspective\, the only truly objective criteria we have are those connected with the spiritual and physical nature of the human being. \nThe human being represents the 4th kingdom of nature\, which stands in a close relationship to the three lower\, animal\, plant and mineral kingdoms . In this module we explore this very relationship between the four nature kingdoms. The progression of consciousness from the mineral – plant – and animal – to the human kingdom provides us with valuable insights as to the hierarchy of form as well as the link  between form and consciousness. We conclude with a specific set of evaluation criteria. \nProgram \nOver the three weekends participants will gain practical and theoretic insights into the following questions: \n\nWhy and how is the human being a universal point of reference for Architectural Form?\nHow is the development of consciousness mirrored both in the historic forms of art & architecture and in the forms of the 4 kingdoms of nature?\nWhat relevance does the ascending hierarchy of form  have with respect to our modern forms of art & architecture?\nWhat is the Threefoldness of the Human Being and how is this mirrored in Architectural Form?\nWhat is the relationship between the 3 dimensions of space and our faculties of thinking\, feeling and willing?\nWhat is the architectural equivalent of the “body” “soul” and “spirit”\, of a building?\nWhat  objective criteria do we have by which architectural form is elevated to a higher level of consciousness?\n\n  \nOpen lecture: Introductory Lecture about the aims and methods of Transformative Art & Architecture \nDate: Thursday\, 25th August 2022 7.30 – 9 pm (Melbourne Time) \nThis lecture is open to all and is compulsory for all new  TAA students. Dedicated Zoom Link \nIf you cannot attend the lecture\, a recording of a similar lecture is available via this Vimeo link. \nDates \n \n  \n  \n  \n  \n  \n  \n  \n  \nModule 3-Level I will be offered over 3 alternating weekends and 4 midweek evenings\, starting on Saturday 27th August 2022\,  9.45 am \nCost \n\n\n\nDiscount rate if paid upfront for the full course \n\n\n\n\nProfessional:  $900 (3 x $300)\nConcession:     $675  (3 x $225)\nFor Students:  $450 (3 x $50) \nNormal rate if paid per weekend \nProfessional:  $1150 (3 x $350)\nConcession:     $825  (3 x $275)\nFor Students:  $600 (3 x $200) \nAll payments dues in advance by the preceding Tuesday/s. The first payment due by Tuesday 23rd  August 2022. \nHow to enrol \nComplete this enrolment form   and send  it to Johannes & Sue \nUpon payment you will receive an email the receipt\, a more detailed program and the relevant zoom link which will remain the same for all sessions. \nFor more information \nFor more information\, please visit the Biosculptural Architecture website 
URL:https://www.anthroposophyau.org.au/event/tranformative-art-architecture-taa-module-3/
CATEGORIES:Australia
ATTACH;FMTTYPE=image/jpeg:https://www.anthroposophyau.org.au/wp-content/uploads/Picture-1-2.jpg
END:VEVENT
BEGIN:VEVENT
DTSTART;TZID=Australia/Sydney:20220902T140000
DTEND;TZID=Australia/Sydney:20221125T160000
DTSTAMP:20260420T015509
CREATED:20220726T050436Z
LAST-MODIFIED:20221027T024353Z
UID:5251-1662127200-1669392000@www.anthroposophyau.org.au
SUMMARY:Working with Steiner's Seven School Sketches - further training for the artist
DESCRIPTION: \nA masterclass studio with artist Fiona Campbell\nThe Seven School (or Friedwart) Sketches motifs were given to the teachers as part of Rudolf Steiner’s new impulse for understanding both Art and Nature\, to help students explore objective spiritual laws\, where form arises out of colour\, not the reverse. The series moves from nature moods through the four elements to culminate in a Madonna and Child motif.  \n  \nWhat are the Training Sketches? \nTheses sketches are part of a comprehensive portfolio known as the Training Sketches for the Artists. The Nine Training Sketches (Nature Moods) and the Goetheanum epochs motifs form a substantial part of this portfolio. \nBut these sketches are not images of external natural events; they refer to acts that are effective in nature and human\, says Christiane Haid\, head of the Visual Arts Section and the Section for the Literary Arts and Humanities at the Goetheanum. She believes dealing with the creative forces can become the starting point for facing tasks in healing the world.  \nYou are invited to join artist and researcher Fiona Campbell for an online masterclass (seven sessions) as she works with these motifs as culmination of a year-long project to bring Steiner’s sketches and motifs to celebrate the centenary of Steiner’s gift to visual artists of the comprehensive portfolio known as the Training Sketches for the Artists. \nYou don’t have to be a professional artist\, or even very experienced\, to enjoy this course.  \nA training for the configuration of the soul \nThey are called training sketches\, but sometimes people wonder what it is they are training. They are not guides to technique\, nor are they supposed to be copied literally. They are not answers to what artworks of sunrises and trees and people should look like. Rather\, they are a training for the soul. What does this mean? \nThrough working with each sketch\, the painted is lead towards an inward experience of the motif. This opens up the way to true moral and spiritual experiences. By learning to unite herself with the inner essence of these motifs\, the artist can reveal through her work traces of her soul experience of the cosmos. \nHistorical background \nIn June 2022 it will have been one hundred years since the painter and sculptor Henny Geck asked Rudolf Steiner for a course that would bring about a renewal of the art of paining. Steiner gave a series of motifs to the artists in the form of rough sketches\, as a foundation for the renewal of the art of painting. the foundational program for painters seeking to work out of Anthroposophy. This program is comparable to the indications he gave to the eurythmists and has been practiced in different forms in anthroposophic art trainings since Steiner first gave the Nine Training Sketches to artist Henni Geck 100 years ago. \nThese masterclasses are part of a worldwide movement this year to celebrate Steiner’s  artistic impulse\, including the Goetheanum motifs\, on the centenary of the burning down of the First Goetheanum. They are also offering lectures and courses to help realise Rudolf Steiner’s vision of a new impulse in the arts and make these motifs visible to the wider public.  \nWho are the masterclasses for?  \nFor artists\, Steiner teachers\, art therapists and art students looking to find a path in soul/spiritual development through the arts; and for anyone interested in understanding more about Rudolf Steiner’s impulse in Art. \nTo get the most out of this course\, it is anticipated that participants work alongside Fiona in-class and on their own between sessions.  \nRequired \n\nfamiliarity with Steiner’s or Goethe’s colour theories\nbasic watercolour wet-on-dry skills (you can use wet-on-wet or any other painting media\, such as oils or acrylics\, if you prefer but technical advice is not directed towards these media) \n\nThis is not a step-by-step instructional class so not suitable for beginners. \nWhat dates are the classes? \n2-4pm AEDT Friday afternoons \n2/16/30 September\, 14/28 October\, 11/25 November. \nSession 1: Sunrise\nSession 2:  Sunset\nSession 3:  Trees in Sunny Air\nSession 4:  Trees in Storm\nSession 5:  Sunlit Tree by a Waterfall\nSession 6:  Head Study\nSession 7: Madonna and Child \nHow much does it cost? \nOnline series:  $250 for 7×2 hr masterclasses or $42 for individual sessions. \nWhere do I register? \nRegister here! \nPlease register online. If you are a new participant please also complete the enrolment form. \nYou  can download the enrolment form here (payment details and a list of suggested materials and readings included). The Zoom link will sent to you a few days before class. \nEdited versions of the masterclasses are recorded but live participation is preferred\, unless your time zone makes this impossible. \nFor more information \nFor more information about the masterclass or for any questions\, please contact Fiona Campbell \n You may also like to share this flyer with others. \n \n  \nAbout Fiona Campbell and her work \n\nhttps://www.anthroposophyau.org.au/wp-content/uploads/CampbellSunMoonTreesVideoV6.mp4\n  \nFiona Campbell is a visual artist\, researcher\, lecturer and arts educator. She has an interdisciplinary PhD on creativity and cognition. She has been a professional artist and arts educator for over 30 years. \nShe is also teaches interdisciplinary research training and consciousness studies. She is a member of the Stream of Life Research Studio\, where her focus is phenomenology and creative cognition. \nYou can find out more about Fiona\, read about her teaching work at Sydney Rudolf Steiner College (where she has taught since 1994) or listen to a recent ABC Soul Search interview with her about the anthroposophical approach to art. \n  \n  \n\n‘and in the creations of the artist t here will appear to us  \nthe traces of his soul experience in the cosmos’  \n(Steiner 1-4 January 1915). \n\n  \nPhoto credit: Sunlit Tree by a Waterfall\, © Fiona Campbell \n 
URL:https://www.anthroposophyau.org.au/event/working-with-steiners-seven-school-sketches-further-training-for-the-artist/
LOCATION:Online
CATEGORIES:Artistic,Australia,International
ATTACH;FMTTYPE=image/jpeg:https://www.anthroposophyau.org.au/wp-content/uploads/SunlitTreebyWaterfall6-1-e1666838620296.jpeg
ORGANIZER;CN="Fiona Campbell":MAILTO:paintedspace@gmail.com
END:VEVENT
END:VCALENDAR