BEGIN:VCALENDAR
VERSION:2.0
PRODID:-//Anthroposophical Society in Australia - ECPv6.3.7//NONSGML v1.0//EN
CALSCALE:GREGORIAN
METHOD:PUBLISH
X-WR-CALNAME:Anthroposophical Society in Australia
X-ORIGINAL-URL:https://www.anthroposophyau.org.au
X-WR-CALDESC:Events for Anthroposophical Society in Australia
REFRESH-INTERVAL;VALUE=DURATION:PT1H
X-Robots-Tag:noindex
X-PUBLISHED-TTL:PT1H
BEGIN:VTIMEZONE
TZID:Australia/Sydney
BEGIN:STANDARD
TZOFFSETFROM:+1100
TZOFFSETTO:+1000
TZNAME:AEST
DTSTART:20210403T160000
END:STANDARD
BEGIN:DAYLIGHT
TZOFFSETFROM:+1000
TZOFFSETTO:+1100
TZNAME:AEDT
DTSTART:20211002T160000
END:DAYLIGHT
END:VTIMEZONE
BEGIN:VEVENT
DTSTART;VALUE=DATE:20211030
DTEND;VALUE=DATE:20211115
DTSTAMP:20260421T121153
CREATED:20210913T021126Z
LAST-MODIFIED:20211001T064831Z
UID:3961-1635552000-1636934399@www.anthroposophyau.org.au
SUMMARY:The Spiritual Architecture of the Creative Process
DESCRIPTION:How the cosmic creative process is mirrored in nature and the human being. How we can practically use this to transform the world.\nA Transformative Art & Architecture (TAA) seminar  \nAn online 6-day seminar over three weekends from Saturday 30th October to Sunday 14th November 2021. \n  \nWhat is it about?  \nThis “Creative Process” seminar begins with the question of how spirit condenses into matter\, which is also how nature manifests her forms. From the human perspective however it is the other way round: if we want to transform the world\, we must learn how to raise matter up to spirit\, which is what the theory of Transformative Art & Architecture (TAA) is concerned with. The archetypal creative process therefore has a downward manifestation phase\, as well as an upward transformation phase. This is how spirit and matter interact to become one. \nRead the course program here. You can find also more information about the course on the flyer \nPresenters \nJohannes Schuster has been actively involved with Anthroposophy for over 30 years. He currently works as a Biosculptural-Architectural Consultant and adult education tutor. His special interest has been the study of etheric forces and how these become the mediating link between spirit and matter. This has been the basis of his interest and involvement with art and architecture. \nSue Schuster is an Art teacher with extensive experience in both main stream and Steiner Education\, from primary through to senior secondary levels. She has also been active in Adult Education and Steiner Teacher Training programs in Australia and overseas. \nYou can read more about Johannes and Sue here.  \nDates \n28 October 2021: free public lecture: What is Transformative Art & Architecture? \nSeminar Dates\n30-31 October 2021\n6-7 November 2021\n13-14 November 2021 \nCost \nThere are two rates: a discount rate for the full course and a weekend rate for those who prefer to pay in instalments.  \nDiscount rate for the full course \nProfessional:  $900 (3 x $300)\nConcession:    $675 (3 x $225)\nFor Students:  $450 (3 x $150) \nWeekend rate per weekend \nProfessional:  $350\nConcession:    $275\nFor Students:  $200 \nAl payments dues in advance by the preceding Tuesday.  \nHow to enrol \nFor enrolment form and registration information \nClick here. \n \nOr visit the Biosculputural Architecture website.  \nEnquiries: contact Johannes Schuster.  \n  \nImage: photo courtesy of Johannes Schuster \n  \n 
URL:https://www.anthroposophyau.org.au/event/the-spiritual-architecture-of-the-creative-process/
LOCATION:Online
CATEGORIES:Australia
ORGANIZER;CN="Johaness Schuster":MAILTO:js@BiosculpturalArchitecture.com
END:VEVENT
BEGIN:VEVENT
DTSTART;TZID=Australia/Sydney:20211030T160000
DTEND;TZID=Australia/Sydney:20211030T180000
DTSTAMP:20260421T121153
CREATED:20211014T014302Z
LAST-MODIFIED:20211014T073716Z
UID:4180-1635609600-1635616800@www.anthroposophyau.org.au
SUMMARY:Deepening The Script In Daily Life
DESCRIPTION:Finding the path to the future through cosmic & earthly renewal of the Script in ourselves\nThe 3rd Etheric Geography webinar from the Stream of Life research group. \n  \n\nLooking for forces of renewal as we emerge from lockdown?  \nWanting to deepen your connection to the enlivening forces of the World Script? \nThen join us for our 2-hour webinar building on the work of Enlivening the Script Within\, this time with the Cosmic Sun as our guide to lead us towards Advent\, the festival of light. \n  \nWhat is it about?  \n\n\n\n\nThis webinar returns to the format of the first webinar\, Reading the World Script\, with visual lectures and some contemplative exercises but now we turn from moon and water look to further possibilities of renewal through deepening the Cosmic Sun forces in our daily life. Continuing the macrocosmic\, mesocosmic and microcosmic theme\, we will work further with our connection to the salutogenic forces inherent in our thinking and imaginative life. For when we connect to the source of living thought\, we ignite the light of the generative forces in our being. \nProgram  \nDo I have to have attended the earlier webinars?  \nNo\, the webinar is open to anyone and everyone interested in this theme. Recordings will be available for a small donation if you cannot attend. \nCost \n$20 or a donation of your choice is much appreciated \nHow to register  \nRegister here!\n \nEnquiries \nPlease contact Fiona Campbell or Martin Samson  \nStream of Life Presenters \nMartin Samson\, author\, poetic philosopher and theologian\nDr Fiona Campbell\, cognition and creativity researcher\, lecturer and artist\nIrmhild Kleinhenz\, Anthroposophic naturopath and integrative health consultant \n\n\n\n\n 
URL:https://www.anthroposophyau.org.au/event/deepening-the-script-in-daily-life/
LOCATION:Online
CATEGORIES:Australia
ATTACH;FMTTYPE=image/jpeg:https://www.anthroposophyau.org.au/wp-content/uploads/AdinaVoicu-via-Pixabaysmall-e1634175549542.jpg
ORGANIZER;CN="Martin Samson":MAILTO:msamson@email.org.au
END:VEVENT
END:VCALENDAR