BEGIN:VCALENDAR
VERSION:2.0
PRODID:-//Anthroposophical Society in Australia - ECPv6.3.7//NONSGML v1.0//EN
CALSCALE:GREGORIAN
METHOD:PUBLISH
X-WR-CALNAME:Anthroposophical Society in Australia
X-ORIGINAL-URL:https://www.anthroposophyau.org.au
X-WR-CALDESC:Events for Anthroposophical Society in Australia
REFRESH-INTERVAL;VALUE=DURATION:PT1H
X-Robots-Tag:noindex
X-PUBLISHED-TTL:PT1H
BEGIN:VTIMEZONE
TZID:Australia/Sydney
BEGIN:STANDARD
TZOFFSETFROM:+1100
TZOFFSETTO:+1000
TZNAME:AEST
DTSTART:20210403T160000
END:STANDARD
BEGIN:DAYLIGHT
TZOFFSETFROM:+1000
TZOFFSETTO:+1100
TZNAME:AEDT
DTSTART:20211002T160000
END:DAYLIGHT
END:VTIMEZONE
BEGIN:VEVENT
DTSTART;TZID=Australia/Sydney:20210918T110000
DTEND;TZID=Australia/Sydney:20210918T170000
DTSTAMP:20260421T152108
CREATED:20210830T005002Z
LAST-MODIFIED:20210916T234818Z
UID:3827-1631962800-1631984400@www.anthroposophyau.org.au
SUMMARY:Enlivening The Script Within
DESCRIPTION:Developing a salutogenic approach to life through reconnecting to the World ether\nThe 2nd Etheric Geography webinar presented by the Stream of Life research group \n  \n\nInspired by our first webinar? \nLooking for ways to enliven and strengthen your own inner forces?  \nTo deepen your understanding of the dynamic nature of the World ether? \nThen join us for our 1-day intensive continuing the themes introduced in Reading The World Script. \nBut now we turn to human life: exploring how the forces and patterns of the Script work in our soul life\, in our thinking and in our own life body. \n\nWhat is it about?  \nThis intensive is more practice-based and interactive than the first\, as we workshop how to enliven the life forces within so as to be prepared to meet the challenges of today. By bringing the starry imaginations into our picture-making process with Martin\, learn how to enliven our thinking through experiential work with Fiona\, and then study the effects of these formative forces on our health with Irmhild. We will close the day with a contemplative healing ceremony. \nDo I have to have attended the first webinar?  \nNo\, the intensive is open to anyone and everyone interested in this theme. There are pre-webinar exercises that will only take a few minutes of your time to practice\, and some readings if you would like some background material to help provide you with some context. \nPreparing for the intensive – materials\, readings\, exercises. \nSo that the intensive can be interactive\, ensuring participants get the most out of the intensive\, a selection of exercises and readings will be sent out once you have registered. There is also a list of materials you will need to collect in advance\, to be used during Fiona’s sessions.  \nWill the intensive be recorded if I can’t attend that day? \nThe medical lecture will be recorded. However\, the contemplative healing ceremony and experiential work will not be recorded\, due to the nature of these activities.  \nWhat is salutogenesis?  \nSalutogenesis is a way of looking at health from the perspective of what does it mean to be a healthy human being\, as opposed to focusing on our pathologies. It uses physical\, soul and spiritual principles to understand the source of health.  \nEvent details \nWhen: 11.00 am -5.00pm AEDT\, Saturday 18th September 2021\nCost: $50 for the day plus registration fee. Fee includes 3 preparatory exercises to practice in advance. Hardship concession on request. \nProgram \n 11am-12.00pm  Welcome and Theme: Key Elements for a Moon Astrology with Martin Samson\n12-1pm Theme: Developing Water Thinking\, experiential work with Fiona Campbell \n1pm-2pm lunch \n2pm-3pm  Theme: Developing Water Thinking\, further experiential work with Fiona Campbell\n3pm-4pm Theme: How do I understand salutogenesis in relation to my own health? with Irmhild Kleinhenz\n4pm-5pm Ceremony: Contemplative healing work with Martin Samson \nPresenters  \nMartin Samson\, author\, poetic philosopher and theologian\nDr Fiona Campbell\, cognition and creativity researcher\, lecturer and artist \nIrmhild Kleinhenz\, Anthroposophic naturopath and integrative health consultant \nFor more information \nEnquiries: Martin Samson msamson@email.org.au\nClick here for more details about the program and the presenters \nREGISTER  HERE !
URL:https://www.anthroposophyau.org.au/event/enlivening-the-script-within/
LOCATION:Online
CATEGORIES:Australia,International
ATTACH;FMTTYPE=image/png:https://www.anthroposophyau.org.au/wp-content/uploads/x1603477212342.png.pagespeed.ic_.8skoZ_hKXn.png
ORGANIZER;CN="Martin Samson":MAILTO:msamson@email.org.au
END:VEVENT
END:VCALENDAR