BEGIN:VCALENDAR
VERSION:2.0
PRODID:-//Anthroposophical Society in Australia - ECPv6.3.7//NONSGML v1.0//EN
CALSCALE:GREGORIAN
METHOD:PUBLISH
X-WR-CALNAME:Anthroposophical Society in Australia
X-ORIGINAL-URL:https://www.anthroposophyau.org.au
X-WR-CALDESC:Events for Anthroposophical Society in Australia
REFRESH-INTERVAL;VALUE=DURATION:PT1H
X-Robots-Tag:noindex
X-PUBLISHED-TTL:PT1H
BEGIN:VTIMEZONE
TZID:Australia/Sydney
BEGIN:STANDARD
TZOFFSETFROM:+1100
TZOFFSETTO:+1000
TZNAME:AEST
DTSTART:20210403T160000
END:STANDARD
BEGIN:DAYLIGHT
TZOFFSETFROM:+1000
TZOFFSETTO:+1100
TZNAME:AEDT
DTSTART:20211002T160000
END:DAYLIGHT
END:VTIMEZONE
BEGIN:VEVENT
DTSTART;TZID=Australia/Sydney:20210914T193000
DTEND;TZID=Australia/Sydney:20210914T203000
DTSTAMP:20260421T152113
CREATED:20210909T054204Z
LAST-MODIFIED:20210909T054839Z
UID:3931-1631647800-1631651400@www.anthroposophyau.org.au
SUMMARY:Gravitas and Grace: Grief as Initiation\, Part 2
DESCRIPTION:This is the second in a series of three sessions and part of a larger program of training for pastoral palliative work to be launched in September and co-ordinated by Lisa Devine.  \nThe third session is on 28 September.  \nRegistration \nPlease register here in advance for this meeting. After registering\, you will receive a confirmation email containing information about joining the meeting. \nFeature image: Engel\, oil painting by Ninetta Sombart  \n 
URL:https://www.anthroposophyau.org.au/event/gravitas-and-grace-grief-as-initiation-copy/
LOCATION:Online
CATEGORIES:Australia
ATTACH;FMTTYPE=image/jpeg:https://www.anthroposophyau.org.au/wp-content/uploads/Ninetta-Sombart-Engel-.jpg
END:VEVENT
END:VCALENDAR