BEGIN:VCALENDAR
VERSION:2.0
PRODID:-//Anthroposophical Society in Australia - ECPv6.3.7//NONSGML v1.0//EN
CALSCALE:GREGORIAN
METHOD:PUBLISH
X-WR-CALNAME:Anthroposophical Society in Australia
X-ORIGINAL-URL:https://www.anthroposophyau.org.au
X-WR-CALDESC:Events for Anthroposophical Society in Australia
REFRESH-INTERVAL;VALUE=DURATION:PT1H
X-Robots-Tag:noindex
X-PUBLISHED-TTL:PT1H
BEGIN:VTIMEZONE
TZID:Australia/Sydney
BEGIN:STANDARD
TZOFFSETFROM:+1100
TZOFFSETTO:+1000
TZNAME:AEST
DTSTART:20210403T160000
END:STANDARD
BEGIN:DAYLIGHT
TZOFFSETFROM:+1000
TZOFFSETTO:+1100
TZNAME:AEDT
DTSTART:20211002T160000
END:DAYLIGHT
END:VTIMEZONE
BEGIN:VEVENT
DTSTART;TZID=Australia/Sydney:20210904T160000
DTEND;TZID=Australia/Sydney:20210904T170000
DTSTAMP:20260421T134309
CREATED:20210825T004712Z
LAST-MODIFIED:20210826T235733Z
UID:3822-1630771200-1630774800@www.anthroposophyau.org.au
SUMMARY:Moral Intuition in Practice
DESCRIPTION:“To be or not to be. That is the question”\nA conversation guided by Lisa Devine concerning practical Anthroposophy in our biographies\, and using this quote as guide. \nRegistration \nRegister for a zoom link here. After registering\, you will receive a confirmation email containing information about joining the meeting. \nFeature image: by Nina Sombart \n  \n 
URL:https://www.anthroposophyau.org.au/event/moral-intuition-in-practice/
LOCATION:Online
CATEGORIES:Australia
ATTACH;FMTTYPE=image/jpeg:https://www.anthroposophyau.org.au/wp-content/uploads/Sombart-e1629852502399.jpg
END:VEVENT
END:VCALENDAR