BEGIN:VCALENDAR
VERSION:2.0
PRODID:-//Anthroposophical Society in Australia - ECPv6.3.7//NONSGML v1.0//EN
CALSCALE:GREGORIAN
METHOD:PUBLISH
X-ORIGINAL-URL:https://www.anthroposophyau.org.au
X-WR-CALDESC:Events for Anthroposophical Society in Australia
REFRESH-INTERVAL;VALUE=DURATION:PT1H
X-Robots-Tag:noindex
X-PUBLISHED-TTL:PT1H
BEGIN:VTIMEZONE
TZID:Australia/Sydney
BEGIN:STANDARD
TZOFFSETFROM:+1100
TZOFFSETTO:+1000
TZNAME:AEST
DTSTART:20200404T160000
END:STANDARD
BEGIN:DAYLIGHT
TZOFFSETFROM:+1000
TZOFFSETTO:+1100
TZNAME:AEDT
DTSTART:20201003T160000
END:DAYLIGHT
END:VTIMEZONE
BEGIN:VEVENT
DTSTART;TZID=Australia/Sydney:20200927T170000
DTEND;TZID=Australia/Sydney:20200927T180000
DTSTAMP:20260425T054602
CREATED:20200910T023802Z
LAST-MODIFIED:20210601T041120Z
UID:2269-1601226000-1601229600@www.anthroposophyau.org.au
SUMMARY:A Conversation About Ageing Online Gathering
DESCRIPTION:The spiritual dimensions of illness and health in the 2nd half of life\nJoin us for another Hearts Online online gathering for members and friends on the theme of the spiritual dimensions of illness and health\, as we move towards to the fulfilment of our earthly lives. \nWe have three highly experienced health professionals in anthroposophic-based healthcare sharing their insights and experience from their professional practice: Jane Bradshaw (nursing)\, Irmhild Kleinhenz (naturopathy and anthroposophic medicine) and Pippa White (advanced care and palliative care) on wellness in the ebb and flow of life\, the ageing process and palliative care\, respectively.  Each contribution will be followed by a short artistic contemplation and there will be a short Q&A session at the end of the gathering. \nFor more information and registration details\, contact Fiona Campbell.  \nPlease join us at 5pm AEST on the Sunday 27th September. \nWe look forward to seeing you there.
URL:https://www.anthroposophyau.org.au/event/a-conversation-about-ageing-online-gathering/
CATEGORIES:Australia
ORGANIZER;CN="Fiona Campbell":MAILTO:paintedspace@gmail.com
END:VEVENT
END:VCALENDAR