BEGIN:VCALENDAR
VERSION:2.0
PRODID:-//Anthroposophical Society in Australia - ECPv6.3.7//NONSGML v1.0//EN
CALSCALE:GREGORIAN
METHOD:PUBLISH
X-ORIGINAL-URL:https://www.anthroposophyau.org.au
X-WR-CALDESC:Events for Anthroposophical Society in Australia
REFRESH-INTERVAL;VALUE=DURATION:PT1H
X-Robots-Tag:noindex
X-PUBLISHED-TTL:PT1H
BEGIN:VTIMEZONE
TZID:Australia/Sydney
BEGIN:STANDARD
TZOFFSETFROM:+1100
TZOFFSETTO:+1000
TZNAME:AEST
DTSTART:20210403T160000
END:STANDARD
BEGIN:DAYLIGHT
TZOFFSETFROM:+1000
TZOFFSETTO:+1100
TZNAME:AEDT
DTSTART:20211002T160000
END:DAYLIGHT
END:VTIMEZONE
BEGIN:VEVENT
DTSTART;TZID=Australia/Sydney:20210112T080000
DTEND;TZID=Australia/Sydney:20210115T170000
DTSTAMP:20260421T004322
CREATED:20210112T042140Z
LAST-MODIFIED:20210112T060326Z
UID:2674-1610438400-1610730000@www.anthroposophyau.org.au
SUMMARY:Listening to the Call of the Spirit in our Times In Service of the Children and our Future
DESCRIPTION:The January Class Teacher Intensive 2021\, will take place from January 11th-15th\, facilitated by Glenaeon School in conjunction with the Pedagogical Section in Australia. This is the annual intensive that will also be available for people on Zoom this year. \n\n\n\n\nThe intensive supports Steiner teachers to become inwardly attuned and awake to the opportunities each day to lead the children and older students towards the future that the world awaits.  \n\n\n\n\nBookings: remotely via Zoom with hubs in each state.  \n\n\n\n\nProgram \nDay 1 \nPeggy Day- Opening – The Call of the Spirit in our Times Message from the Goetheanum \nChristof Wiechert- The Human Being and the World\nDay 2 \nBernadette White – Stories of Hope in the Wisdom of World Literature Sophia Montefiore – Biographies of our Times\nDay 3 \nLisa Romero – Inner Development Tasks of our Age\nDay 4 \nLisa Devine – The Seeds of the Future: The Poetry of the Soul in our Times \nVan James – Pictures of our Future Potential in Art \n\n\n\n\n\n\nCost \n5 Hours of lectures NESA accredited $100 – plus for each year group – 9 sessions- 1 hour 40 minutes = 15 hours NESA accredited \n6 Core Curriculum/Main Lesson Sessions per year group- English\, History\, Maths\, Geography and Science interwoven- $200\n3 Support Sessions- 1 Drawing/Painting per year group\, 1 Inner Development per year group 1 learning Support Session per year–$100— Total Cost $400
URL:https://www.anthroposophyau.org.au/event/listening-to-the-call-of-the-spirit-in-our-times-in-service-of-the-children-and-our-future/
LOCATION:Glenaeon School Middle Cove\, 5a Glenroy Avenue\, Middle Cove\, NSW\, 2068
CATEGORIES:Australia,Sydney / St Johns branch
ORGANIZER;CN="Peggy Day":MAILTO:P.Day@glenaeon.nsw.edu.au
END:VEVENT
END:VCALENDAR