BEGIN:VCALENDAR
VERSION:2.0
PRODID:-//Anthroposophical Society in Australia - ECPv6.3.7//NONSGML v1.0//EN
CALSCALE:GREGORIAN
METHOD:PUBLISH
X-ORIGINAL-URL:https://www.anthroposophyau.org.au
X-WR-CALDESC:Events for Anthroposophical Society in Australia
REFRESH-INTERVAL;VALUE=DURATION:PT1H
X-Robots-Tag:noindex
X-PUBLISHED-TTL:PT1H
BEGIN:VTIMEZONE
TZID:Australia/Sydney
BEGIN:STANDARD
TZOFFSETFROM:+1100
TZOFFSETTO:+1000
TZNAME:AEST
DTSTART:20190406T160000
END:STANDARD
BEGIN:DAYLIGHT
TZOFFSETFROM:+1000
TZOFFSETTO:+1100
TZNAME:AEDT
DTSTART:20191005T160000
END:DAYLIGHT
END:VTIMEZONE
BEGIN:VEVENT
DTSTART;TZID=Australia/Sydney:20191220T000000
DTEND;TZID=Australia/Sydney:20191222T000000
DTSTAMP:20260420T121948
CREATED:20191015T033106Z
LAST-MODIFIED:20191015T033142Z
UID:2054-1576800000-1576972800@www.anthroposophyau.org.au
SUMMARY:The Christmas Mysteries
DESCRIPTION:  \nThis workshop will look at the celebration of the higher I awakening of the individual within the collective spiritual year. \nThe Christmas Mysteries\n\n20 December – 22 December\n\n\n\nThe Christmas mystery is among other expressions a celebration of the higher I awakening of the individual within the collective spiritual year. \nIt is a time in which the spiritual world becomes more accessible. The preparation and effort we make helps to support the spiritual births and the unfolding steps towards deepening our spiritual life\, and allows us to manifest the resulting capacities in daily life. \nMore details about this weekend course will become available closer to the time. \nTo book or enquire please email innerworkpath@gmail.com
URL:https://www.anthroposophyau.org.au/event/the-christmas-mysteries/
LOCATION:NSW
CATEGORIES:Northern Rivers branch
END:VEVENT
END:VCALENDAR