BEGIN:VCALENDAR
VERSION:2.0
PRODID:-//Anthroposophical Society in Australia - ECPv6.3.7//NONSGML v1.0//EN
CALSCALE:GREGORIAN
METHOD:PUBLISH
X-WR-CALNAME:Anthroposophical Society in Australia
X-ORIGINAL-URL:https://www.anthroposophyau.org.au
X-WR-CALDESC:Events for Anthroposophical Society in Australia
REFRESH-INTERVAL;VALUE=DURATION:PT1H
X-Robots-Tag:noindex
X-PUBLISHED-TTL:PT1H
BEGIN:VTIMEZONE
TZID:Australia/Sydney
BEGIN:STANDARD
TZOFFSETFROM:+1100
TZOFFSETTO:+1000
TZNAME:AEST
DTSTART:20190406T160000
END:STANDARD
BEGIN:DAYLIGHT
TZOFFSETFROM:+1000
TZOFFSETTO:+1100
TZNAME:AEDT
DTSTART:20191005T160000
END:DAYLIGHT
END:VTIMEZONE
BEGIN:VEVENT
DTSTART;TZID=Australia/Sydney:20191217T190000
DTEND;TZID=Australia/Sydney:20191217T190000
DTSTAMP:20260420T043827
CREATED:20191106T034840Z
LAST-MODIFIED:20191106T034840Z
UID:2092-1576609200-1576609200@www.anthroposophyau.org.au
SUMMARY:Creating inner light in our hearts
DESCRIPTION:“Today it is unhealthy to believe that one can do something in a particular limited area without taking into consideration the fact that since the middle of the 19th century the earth has been a single organism in regard to social relationships.  One simply must take this reality into account…”   \nRudolf Steiner gave us this advice a century ago and we are tasked with integrating this view into festivals like Christmas.  \nThe iconography and customs are derived from the winter darkness of the North\, while it is summer in our hemisphere.  \nThe Uriel imagination gives us a radiant picture of the light that pervades the earth and the cosmos.  \nThe Golden Legend is a story that connects our past evolution as human beings with the future ideal of spiritual life for all humanity.  \nThrough the birth of the Christ-child\, we can now create inner light in our hearts.  \nA presentation of these ideas will be given with Jessie Phelps and insights from Martin Samson\, who has worked extensively with these themes.  The Festival Choir will sing and musical contributions are welcome. \nStarting at 7pm at Rudolf Steiner House.
URL:https://www.anthroposophyau.org.au/event/creating-inner-light-in-our-hearts/
LOCATION:Rudolf Steiner House\, 307 Sussex Street\, Sydney\, NSW\, 2000
CATEGORIES:Sydney / St Johns branch
END:VEVENT
END:VCALENDAR