BEGIN:VCALENDAR
VERSION:2.0
PRODID:-//Anthroposophical Society in Australia - ECPv6.3.7//NONSGML v1.0//EN
CALSCALE:GREGORIAN
METHOD:PUBLISH
X-ORIGINAL-URL:https://www.anthroposophyau.org.au
X-WR-CALDESC:Events for Anthroposophical Society in Australia
REFRESH-INTERVAL;VALUE=DURATION:PT1H
X-Robots-Tag:noindex
X-PUBLISHED-TTL:PT1H
BEGIN:VTIMEZONE
TZID:Australia/Sydney
BEGIN:STANDARD
TZOFFSETFROM:+1100
TZOFFSETTO:+1000
TZNAME:AEST
DTSTART:20190406T160000
END:STANDARD
BEGIN:DAYLIGHT
TZOFFSETFROM:+1000
TZOFFSETTO:+1100
TZNAME:AEDT
DTSTART:20191005T160000
END:DAYLIGHT
END:VTIMEZONE
BEGIN:VEVENT
DTSTART;TZID=Australia/Sydney:20190721T180000
DTEND;TZID=Australia/Sydney:20190721T180000
DTSTAMP:20260426T025904
CREATED:20190715T102520Z
LAST-MODIFIED:20190720T221615Z
UID:1746-1563732000-1563732000@www.anthroposophyau.org.au
SUMMARY:Harmonia Mundi Tour
DESCRIPTION:CHORAL\, MUSIC THEATRE EVENTS  The Waldorf Wayfarers and Director Judith Clingan AM\, present\ntheir Harmonia Mundi Tour. 75 students\, alumni\, teachers and parents from 5 countries bring new choral\nwork and music theatre in an exciting program. Admission: $20 full\, $15 Conc\, $10 school student.\nEnq. & booking: judithclingan@me.com     This is a “Waldorf 100” event !\nTuesday 16th July  5pm at Mansfield Performing Arts Cr.\nThursday 18th July  7pm\, Little Yarra S.S. Yarra Junction Vic.\nFriday 19th July  7pm\, Melb.RSS  Warranwood.\nSunday 21st July  6pm\, Mary’s Mount Cr\, Loreto College\, Ballarat.
URL:https://www.anthroposophyau.org.au/event/harmonia-mundi-copy-2-copy-copy/
LOCATION:Mary’s Mount Cr\, Loreto College\, Ballarat\, Ballarat
CATEGORIES:Canberra branch
ORGANIZER;CN="Judith Clingan":MAILTO:judithclingan@me.com
END:VEVENT
END:VCALENDAR